BEGIN:VCALENDAR
VERSION:2.0
PRODID:-//The Chapel | Community, Church, Enderby, BC - ECPv6.6.4.1//NONSGML v1.0//EN
CALSCALE:GREGORIAN
METHOD:PUBLISH
X-WR-CALNAME:The Chapel | Community, Church, Enderby, BC
X-ORIGINAL-URL:https://enderbychapel.com
X-WR-CALDESC:Events for The Chapel | Community, Church, Enderby, BC
REFRESH-INTERVAL;VALUE=DURATION:PT1H
X-Robots-Tag:noindex
X-PUBLISHED-TTL:PT1H
BEGIN:VTIMEZONE
TZID:UTC
BEGIN:STANDARD
TZOFFSETFROM:+0000
TZOFFSETTO:+0000
TZNAME:UTC
DTSTART:20220101T000000
END:STANDARD
END:VTIMEZONE
BEGIN:VEVENT
DTSTART;TZID=UTC:20220427T100000
DTEND;TZID=UTC:20220427T100000
DTSTAMP:20260424T233208
CREATED:20220414T195004Z
LAST-MODIFIED:20220414T195004Z
UID:26860-1651053600-1651053600@enderbychapel.com
SUMMARY:Ladies Bible Study
DESCRIPTION:
URL:https://enderbychapel.com/event/ladies-bible-study-6/
LOCATION:BC
END:VEVENT
BEGIN:VEVENT
DTSTART;TZID=UTC:20220427T183000
DTEND;TZID=UTC:20220427T200000
DTSTAMP:20260424T233208
CREATED:20220414T194636Z
LAST-MODIFIED:20220414T194636Z
UID:26850-1651084200-1651089600@enderbychapel.com
SUMMARY:Hope Explored - Hope
DESCRIPTION:
URL:https://enderbychapel.com/event/hope-explored-hope/
LOCATION:BC
END:VEVENT
BEGIN:VEVENT
DTSTART;TZID=UTC:20220427T183000
DTEND;TZID=UTC:20220427T200000
DTSTAMP:20260424T233208
CREATED:20220414T194918Z
LAST-MODIFIED:20220414T194918Z
UID:26858-1651084200-1651089600@enderbychapel.com
SUMMARY:JR Youth
DESCRIPTION:Grades 5-6 meet at the Chapel
URL:https://enderbychapel.com/event/jr-youth-2/
LOCATION:BC
END:VEVENT
END:VCALENDAR