BEGIN:VCALENDAR
VERSION:2.0
PRODID:-//The Chapel | Community, Church, Enderby, BC - ECPv6.6.4.1//NONSGML v1.0//EN
CALSCALE:GREGORIAN
METHOD:PUBLISH
X-ORIGINAL-URL:https://enderbychapel.com
X-WR-CALDESC:Events for The Chapel | Community, Church, Enderby, BC
REFRESH-INTERVAL;VALUE=DURATION:PT1H
X-Robots-Tag:noindex
X-PUBLISHED-TTL:PT1H
BEGIN:VTIMEZONE
TZID:UTC
BEGIN:STANDARD
TZOFFSETFROM:+0000
TZOFFSETTO:+0000
TZNAME:UTC
DTSTART:20220101T000000
END:STANDARD
END:VTIMEZONE
BEGIN:VEVENT
DTSTART;TZID=UTC:20220428T190000
DTEND;TZID=UTC:20220428T190000
DTSTAMP:20260425T005724
CREATED:20220414T200526Z
LAST-MODIFIED:20220414T200526Z
UID:26884-1651172400-1651172400@enderbychapel.com
SUMMARY:Men's Group
DESCRIPTION:
URL:https://enderbychapel.com/event/mens-group-2/
LOCATION:BC
END:VEVENT
END:VCALENDAR