BEGIN:VCALENDAR
VERSION:2.0
PRODID:-//The Chapel | Community, Church, Enderby, BC - ECPv6.6.4.1//NONSGML v1.0//EN
CALSCALE:GREGORIAN
METHOD:PUBLISH
X-ORIGINAL-URL:https://enderbychapel.com
X-WR-CALDESC:Events for The Chapel | Community, Church, Enderby, BC
REFRESH-INTERVAL;VALUE=DURATION:PT1H
X-Robots-Tag:noindex
X-PUBLISHED-TTL:PT1H
BEGIN:VTIMEZONE
TZID:UTC
BEGIN:STANDARD
TZOFFSETFROM:+0000
TZOFFSETTO:+0000
TZNAME:UTC
DTSTART:20220101T000000
END:STANDARD
END:VTIMEZONE
BEGIN:VEVENT
DTSTART;TZID=UTC:20220508T100000
DTEND;TZID=UTC:20220508T100000
DTSTAMP:20260425T005612
CREATED:20220414T201043Z
LAST-MODIFIED:20220414T201043Z
UID:26895-1652004000-1652004000@enderbychapel.com
SUMMARY:Sunday Service
DESCRIPTION:
URL:https://enderbychapel.com/event/sunday-service-53/
LOCATION:BC
END:VEVENT
BEGIN:VEVENT
DTSTART;TZID=UTC:20220508T100000
DTEND;TZID=UTC:20220508T100000
DTSTAMP:20260425T005612
CREATED:20220414T201948Z
LAST-MODIFIED:20220414T201948Z
UID:26910-1652004000-1652004000@enderbychapel.com
SUMMARY:SonKids
DESCRIPTION:Children aged 4 to grade 5 are dismissed during the service.
URL:https://enderbychapel.com/event/sonkids-3/
LOCATION:BC
END:VEVENT
END:VCALENDAR