BEGIN:VCALENDAR
VERSION:2.0
PRODID:-//The Chapel | Community, Church, Enderby, BC - ECPv6.6.4.1//NONSGML v1.0//EN
CALSCALE:GREGORIAN
METHOD:PUBLISH
X-ORIGINAL-URL:https://enderbychapel.com
X-WR-CALDESC:Events for The Chapel | Community, Church, Enderby, BC
REFRESH-INTERVAL;VALUE=DURATION:PT1H
X-Robots-Tag:noindex
X-PUBLISHED-TTL:PT1H
BEGIN:VTIMEZONE
TZID:UTC
BEGIN:STANDARD
TZOFFSETFROM:+0000
TZOFFSETTO:+0000
TZNAME:UTC
DTSTART:20220101T000000
END:STANDARD
END:VTIMEZONE
BEGIN:VEVENT
DTSTART;TZID=UTC:20220510T110000
DTEND;TZID=UTC:20220510T130000
DTSTAMP:20260425T005726
CREATED:20220414T204030Z
LAST-MODIFIED:20220414T204030Z
UID:26945-1652180400-1652187600@enderbychapel.com
SUMMARY:Keenagers (55+) Luncheon
DESCRIPTION:
URL:https://enderbychapel.com/event/keenagers-55-luncheon/
LOCATION:BC
END:VEVENT
BEGIN:VEVENT
DTSTART;TZID=UTC:20220510T190000
DTEND;TZID=UTC:20220510T200000
DTSTAMP:20260425T005726
CREATED:20220414T195909Z
LAST-MODIFIED:20220414T195909Z
UID:26873-1652209200-1652212800@enderbychapel.com
SUMMARY:Prayer Meeting
DESCRIPTION:
URL:https://enderbychapel.com/event/prayer-meeting-3/
LOCATION:BC
END:VEVENT
END:VCALENDAR