BEGIN:VCALENDAR
VERSION:2.0
PRODID:-//The Chapel | Community, Church, Enderby, BC - ECPv6.6.4.1//NONSGML v1.0//EN
CALSCALE:GREGORIAN
METHOD:PUBLISH
X-ORIGINAL-URL:https://enderbychapel.com
X-WR-CALDESC:Events for The Chapel | Community, Church, Enderby, BC
REFRESH-INTERVAL;VALUE=DURATION:PT1H
X-Robots-Tag:noindex
X-PUBLISHED-TTL:PT1H
BEGIN:VTIMEZONE
TZID:UTC
BEGIN:STANDARD
TZOFFSETFROM:+0000
TZOFFSETTO:+0000
TZNAME:UTC
DTSTART:20220101T000000
END:STANDARD
END:VTIMEZONE
BEGIN:VEVENT
DTSTART;TZID=UTC:20220911T100000
DTEND;TZID=UTC:20220911T113000
DTSTAMP:20260424T112509
CREATED:20220728T162635Z
LAST-MODIFIED:20220728T162635Z
UID:27012-1662890400-1662895800@enderbychapel.com
SUMMARY:Worship Service
DESCRIPTION:
URL:https://enderbychapel.com/event/worship-service-6/
LOCATION:BC
END:VEVENT
BEGIN:VEVENT
DTSTART;TZID=UTC:20220911T100000
DTEND;TZID=UTC:20220911T113000
DTSTAMP:20260424T112509
CREATED:20220804T170128Z
LAST-MODIFIED:20220804T170128Z
UID:27028-1662890400-1662895800@enderbychapel.com
SUMMARY:Fall Kick Off Sunday
DESCRIPTION:
URL:https://enderbychapel.com/event/fall-kick-off-sunday/
LOCATION:BC
END:VEVENT
END:VCALENDAR