BEGIN:VCALENDAR
VERSION:2.0
PRODID:-//The Chapel | Community, Church, Enderby, BC - ECPv6.6.4.1//NONSGML v1.0//EN
CALSCALE:GREGORIAN
METHOD:PUBLISH
X-WR-CALNAME:The Chapel | Community, Church, Enderby, BC
X-ORIGINAL-URL:https://enderbychapel.com
X-WR-CALDESC:Events for The Chapel | Community, Church, Enderby, BC
REFRESH-INTERVAL;VALUE=DURATION:PT1H
X-Robots-Tag:noindex
X-PUBLISHED-TTL:PT1H
BEGIN:VTIMEZONE
TZID:UTC
BEGIN:STANDARD
TZOFFSETFROM:+0000
TZOFFSETTO:+0000
TZNAME:UTC
DTSTART:20220101T000000
END:STANDARD
END:VTIMEZONE
BEGIN:VEVENT
DTSTART;TZID=UTC:20220925T100000
DTEND;TZID=UTC:20220925T113000
DTSTAMP:20260424T112500
CREATED:20220728T162735Z
LAST-MODIFIED:20220728T162735Z
UID:27017-1664100000-1664105400@enderbychapel.com
SUMMARY:Worship Service
DESCRIPTION:
URL:https://enderbychapel.com/event/worship-service-8/
LOCATION:BC
END:VEVENT
BEGIN:VEVENT
DTSTART;TZID=UTC:20220925T100000
DTEND;TZID=UTC:20220925T113000
DTSTAMP:20260424T112500
CREATED:20220809T182016Z
LAST-MODIFIED:20220809T182016Z
UID:27060-1664100000-1664105400@enderbychapel.com
SUMMARY:SonKids
DESCRIPTION:Ages 4 to grade 5\nChildren are dismissed part way through the service
URL:https://enderbychapel.com/event/sonkids-8/
LOCATION:BC
END:VEVENT
END:VCALENDAR