BEGIN:VCALENDAR
VERSION:2.0
PRODID:-//The Chapel | Community, Church, Enderby, BC - ECPv6.6.4.1//NONSGML v1.0//EN
CALSCALE:GREGORIAN
METHOD:PUBLISH
X-ORIGINAL-URL:https://enderbychapel.com
X-WR-CALDESC:Events for The Chapel | Community, Church, Enderby, BC
REFRESH-INTERVAL;VALUE=DURATION:PT1H
X-Robots-Tag:noindex
X-PUBLISHED-TTL:PT1H
BEGIN:VTIMEZONE
TZID:UTC
BEGIN:STANDARD
TZOFFSETFROM:+0000
TZOFFSETTO:+0000
TZNAME:UTC
DTSTART:20220101T000000
END:STANDARD
END:VTIMEZONE
BEGIN:VEVENT
DTSTART;TZID=UTC:20220930T190000
DTEND;TZID=UTC:20220930T210000
DTSTAMP:20260424T100617
CREATED:20220804T171838Z
LAST-MODIFIED:20220915T191425Z
UID:27050-1664564400-1664571600@enderbychapel.com
SUMMARY:NO Sr Youth this week
DESCRIPTION:
URL:https://enderbychapel.com/event/sr-youth-gr-8-12-4/
LOCATION:BC
END:VEVENT
END:VCALENDAR