BEGIN:VCALENDAR
VERSION:2.0
PRODID:-//The Chapel | Community, Church, Enderby, BC - ECPv6.6.4.1//NONSGML v1.0//EN
CALSCALE:GREGORIAN
METHOD:PUBLISH
X-WR-CALNAME:The Chapel | Community, Church, Enderby, BC
X-ORIGINAL-URL:https://enderbychapel.com
X-WR-CALDESC:Events for The Chapel | Community, Church, Enderby, BC
REFRESH-INTERVAL;VALUE=DURATION:PT1H
X-Robots-Tag:noindex
X-PUBLISHED-TTL:PT1H
BEGIN:VTIMEZONE
TZID:UTC
BEGIN:STANDARD
TZOFFSETFROM:+0000
TZOFFSETTO:+0000
TZNAME:UTC
DTSTART:20220101T000000
END:STANDARD
END:VTIMEZONE
BEGIN:VEVENT
DTSTART;TZID=UTC:20221009T100000
DTEND;TZID=UTC:20221113T113000
DTSTAMP:20260424T100502
CREATED:20220915T192133Z
LAST-MODIFIED:20220915T192133Z
UID:27083-1665309600-1668339000@enderbychapel.com
SUMMARY:Sunday Worship
DESCRIPTION:
URL:https://enderbychapel.com/event/sunday-worship-3/
LOCATION:BC
END:VEVENT
BEGIN:VEVENT
DTSTART;TZID=UTC:20221012T100000
DTEND;TZID=UTC:20221012T113000
DTSTAMP:20260424T100502
CREATED:20220915T192521Z
LAST-MODIFIED:20220915T202137Z
UID:27092-1665568800-1665574200@enderbychapel.com
SUMMARY:Ladies Bible Study
DESCRIPTION:
URL:https://enderbychapel.com/event/ladies-bible-study-11/
LOCATION:BC
END:VEVENT
BEGIN:VEVENT
DTSTART;TZID=UTC:20221012T183000
DTEND;TZID=UTC:20221012T200000
DTSTAMP:20260424T100502
CREATED:20220915T191723Z
LAST-MODIFIED:20220915T191723Z
UID:27068-1665599400-1665604800@enderbychapel.com
SUMMARY:Jr Youth gr 6-7
DESCRIPTION:
URL:https://enderbychapel.com/event/jr-youth-gr-6-7-5/
LOCATION:BC
END:VEVENT
BEGIN:VEVENT
DTSTART;TZID=UTC:20221012T183000
DTEND;TZID=UTC:20221012T200000
DTSTAMP:20260424T100502
CREATED:20221012T201621Z
LAST-MODIFIED:20221012T201621Z
UID:27120-1665599400-1665604800@enderbychapel.com
SUMMARY:Jr Youth gr 6-7
DESCRIPTION:
URL:https://enderbychapel.com/event/jr-youth-gr-6-7-12/
LOCATION:BC
END:VEVENT
END:VCALENDAR