BEGIN:VCALENDAR
VERSION:2.0
PRODID:-//The Chapel | Community, Church, Enderby, BC - ECPv6.6.4.1//NONSGML v1.0//EN
CALSCALE:GREGORIAN
METHOD:PUBLISH
X-ORIGINAL-URL:https://enderbychapel.com
X-WR-CALDESC:Events for The Chapel | Community, Church, Enderby, BC
REFRESH-INTERVAL;VALUE=DURATION:PT1H
X-Robots-Tag:noindex
X-PUBLISHED-TTL:PT1H
BEGIN:VTIMEZONE
TZID:UTC
BEGIN:STANDARD
TZOFFSETFROM:+0000
TZOFFSETTO:+0000
TZNAME:UTC
DTSTART:20220101T000000
END:STANDARD
END:VTIMEZONE
BEGIN:VEVENT
DTSTART;TZID=UTC:20221224T183000
DTEND;TZID=UTC:20221224T193000
DTSTAMP:20260424T072210
CREATED:20221215T221743Z
LAST-MODIFIED:20221215T221743Z
UID:27241-1671906600-1671910200@enderbychapel.com
SUMMARY:Christmas Eve service
DESCRIPTION:
URL:https://enderbychapel.com/event/christmas-eve-service/
LOCATION:BC
END:VEVENT
END:VCALENDAR