BEGIN:VCALENDAR
VERSION:2.0
PRODID:-//The Chapel | Community, Church, Enderby, BC - ECPv6.6.4.1//NONSGML v1.0//EN
CALSCALE:GREGORIAN
METHOD:PUBLISH
X-ORIGINAL-URL:https://enderbychapel.com
X-WR-CALDESC:Events for The Chapel | Community, Church, Enderby, BC
REFRESH-INTERVAL;VALUE=DURATION:PT1H
X-Robots-Tag:noindex
X-PUBLISHED-TTL:PT1H
BEGIN:VTIMEZONE
TZID:UTC
BEGIN:STANDARD
TZOFFSETFROM:+0000
TZOFFSETTO:+0000
TZNAME:UTC
DTSTART:20230101T000000
END:STANDARD
END:VTIMEZONE
BEGIN:VEVENT
DTSTART;TZID=UTC:20230307T103000
DTEND;TZID=UTC:20230307T120000
DTSTAMP:20260424T033313
CREATED:20230307T171404Z
LAST-MODIFIED:20230307T171404Z
UID:27321-1678185000-1678190400@enderbychapel.com
SUMMARY:Small Group
DESCRIPTION:
URL:https://enderbychapel.com/event/small-group-8/
LOCATION:BC
END:VEVENT
BEGIN:VEVENT
DTSTART;TZID=UTC:20230307T183000
DTEND;TZID=UTC:20230307T200000
DTSTAMP:20260424T033313
CREATED:20230307T172100Z
LAST-MODIFIED:20230307T172100Z
UID:27337-1678213800-1678219200@enderbychapel.com
SUMMARY:Youth Bible Study grades 7-12
DESCRIPTION:
URL:https://enderbychapel.com/event/youth-bible-study-grades-7-12/
LOCATION:BC
END:VEVENT
END:VCALENDAR