BEGIN:VCALENDAR
VERSION:2.0
PRODID:-//The Chapel | Community, Church, Enderby, BC - ECPv6.6.4.1//NONSGML v1.0//EN
CALSCALE:GREGORIAN
METHOD:PUBLISH
X-WR-CALNAME:The Chapel | Community, Church, Enderby, BC
X-ORIGINAL-URL:https://enderbychapel.com
X-WR-CALDESC:Events for The Chapel | Community, Church, Enderby, BC
REFRESH-INTERVAL;VALUE=DURATION:PT1H
X-Robots-Tag:noindex
X-PUBLISHED-TTL:PT1H
BEGIN:VTIMEZONE
TZID:UTC
BEGIN:STANDARD
TZOFFSETFROM:+0000
TZOFFSETTO:+0000
TZNAME:UTC
DTSTART:20230101T000000
END:STANDARD
END:VTIMEZONE
BEGIN:VEVENT
DTSTART;TZID=UTC:20230314T103000
DTEND;TZID=UTC:20230314T120000
DTSTAMP:20260424T033255
CREATED:20230307T171622Z
LAST-MODIFIED:20230307T171622Z
UID:27327-1678789800-1678795200@enderbychapel.com
SUMMARY:NO small group
DESCRIPTION:
URL:https://enderbychapel.com/event/no-small-group/
LOCATION:BC
END:VEVENT
BEGIN:VEVENT
DTSTART;TZID=UTC:20230314T110000
DTEND;TZID=UTC:20230314T130000
DTSTAMP:20260424T033255
CREATED:20230307T171709Z
LAST-MODIFIED:20230307T171709Z
UID:27329-1678791600-1678798800@enderbychapel.com
SUMMARY:Keenagers (55+) Potluck luncheon
DESCRIPTION:
URL:https://enderbychapel.com/event/keenagers-55-potluck-luncheon/
LOCATION:BC
END:VEVENT
BEGIN:VEVENT
DTSTART;TZID=UTC:20230314T183000
DTEND;TZID=UTC:20230314T200000
DTSTAMP:20260424T033255
CREATED:20230307T172200Z
LAST-MODIFIED:20230307T172200Z
UID:27339-1678818600-1678824000@enderbychapel.com
SUMMARY:Youth Bible Study grades 7-12
DESCRIPTION:
URL:https://enderbychapel.com/event/youth-bible-study-grades-7-12-2/
LOCATION:BC
END:VEVENT
END:VCALENDAR