BEGIN:VCALENDAR
VERSION:2.0
PRODID:-//The Chapel | Community, Church, Enderby, BC - ECPv6.6.4.1//NONSGML v1.0//EN
CALSCALE:GREGORIAN
METHOD:PUBLISH
X-ORIGINAL-URL:https://enderbychapel.com
X-WR-CALDESC:Events for The Chapel | Community, Church, Enderby, BC
REFRESH-INTERVAL;VALUE=DURATION:PT1H
X-Robots-Tag:noindex
X-PUBLISHED-TTL:PT1H
BEGIN:VTIMEZONE
TZID:UTC
BEGIN:STANDARD
TZOFFSETFROM:+0000
TZOFFSETTO:+0000
TZNAME:UTC
DTSTART:20230101T000000
END:STANDARD
END:VTIMEZONE
BEGIN:VEVENT
DTSTART;TZID=UTC:20230329T080000
DTEND;TZID=UTC:20230329T170000
DTSTAMP:20260424T011607
CREATED:20230117T175159Z
LAST-MODIFIED:20230117T175159Z
UID:27296-1680076800-1680109200@enderbychapel.com
SUMMARY:NO Jr Youth Spring Break
DESCRIPTION:
URL:https://enderbychapel.com/event/no-jr-youth-spring-break-2/
LOCATION:BC
END:VEVENT
BEGIN:VEVENT
DTSTART;TZID=UTC:20230329T190000
DTEND;TZID=UTC:20230329T203000
DTSTAMP:20260424T011607
CREATED:20230403T070054Z
LAST-MODIFIED:20230402T185846Z
UID:27319-1680116400-1680121800@enderbychapel.com
SUMMARY:Watoto Children's Choir
DESCRIPTION:
URL:https://enderbychapel.com/event/watoto-childrens-choir/
LOCATION:BC
END:VEVENT
END:VCALENDAR