BEGIN:VCALENDAR
VERSION:2.0
PRODID:-//The Chapel | Community, Church, Enderby, BC - ECPv6.6.4.1//NONSGML v1.0//EN
CALSCALE:GREGORIAN
METHOD:PUBLISH
X-ORIGINAL-URL:https://enderbychapel.com
X-WR-CALDESC:Events for The Chapel | Community, Church, Enderby, BC
REFRESH-INTERVAL;VALUE=DURATION:PT1H
X-Robots-Tag:noindex
X-PUBLISHED-TTL:PT1H
BEGIN:VTIMEZONE
TZID:UTC
BEGIN:STANDARD
TZOFFSETFROM:+0000
TZOFFSETTO:+0000
TZNAME:UTC
DTSTART:20230101T000000
END:STANDARD
END:VTIMEZONE
BEGIN:VEVENT
DTSTART;TZID=UTC:20230411T110000
DTEND;TZID=UTC:20230411T130000
DTSTAMP:20260424T022126
CREATED:20230404T184048Z
LAST-MODIFIED:20230404T184048Z
UID:27403-1681210800-1681218000@enderbychapel.com
SUMMARY:Keenagers (55+)      Potluck Lunch
DESCRIPTION:
URL:https://enderbychapel.com/event/keenagers-55-potluck-lunch/
LOCATION:BC
END:VEVENT
BEGIN:VEVENT
DTSTART;TZID=UTC:20230411T183000
DTEND;TZID=UTC:20230411T200000
DTSTAMP:20260424T022126
CREATED:20230404T181853Z
LAST-MODIFIED:20230404T181853Z
UID:27367-1681237800-1681243200@enderbychapel.com
SUMMARY:Youth Small Group Grades 7-12
DESCRIPTION:
URL:https://enderbychapel.com/event/youth-small-group-grades-7-12-2/
LOCATION:BC
END:VEVENT
END:VCALENDAR