BEGIN:VCALENDAR
VERSION:2.0
PRODID:-//The Chapel | Community, Church, Enderby, BC - ECPv6.6.4.1//NONSGML v1.0//EN
CALSCALE:GREGORIAN
METHOD:PUBLISH
X-ORIGINAL-URL:https://enderbychapel.com
X-WR-CALDESC:Events for The Chapel | Community, Church, Enderby, BC
REFRESH-INTERVAL;VALUE=DURATION:PT1H
X-Robots-Tag:noindex
X-PUBLISHED-TTL:PT1H
BEGIN:VTIMEZONE
TZID:UTC
BEGIN:STANDARD
TZOFFSETFROM:+0000
TZOFFSETTO:+0000
TZNAME:UTC
DTSTART:20230101T000000
END:STANDARD
END:VTIMEZONE
BEGIN:VEVENT
DTSTART;TZID=UTC:20230501T190000
DTEND;TZID=UTC:20230501T203000
DTSTAMP:20260424T011607
CREATED:20230411T173203Z
LAST-MODIFIED:20230411T173203Z
UID:27411-1682967600-1682973000@enderbychapel.com
SUMMARY:Grades 11+ Ladies Study
DESCRIPTION:
URL:https://enderbychapel.com/event/grades-11-ladies-study/
LOCATION:BC
END:VEVENT
END:VCALENDAR