BEGIN:VCALENDAR
VERSION:2.0
PRODID:-//The Chapel | Community, Church, Enderby, BC - ECPv6.6.4.1//NONSGML v1.0//EN
CALSCALE:GREGORIAN
METHOD:PUBLISH
X-WR-CALNAME:The Chapel | Community, Church, Enderby, BC
X-ORIGINAL-URL:https://enderbychapel.com
X-WR-CALDESC:Events for The Chapel | Community, Church, Enderby, BC
REFRESH-INTERVAL;VALUE=DURATION:PT1H
X-Robots-Tag:noindex
X-PUBLISHED-TTL:PT1H
BEGIN:VTIMEZONE
TZID:UTC
BEGIN:STANDARD
TZOFFSETFROM:+0000
TZOFFSETTO:+0000
TZNAME:UTC
DTSTART:20230101T000000
END:STANDARD
END:VTIMEZONE
BEGIN:VEVENT
DTSTART;TZID=UTC:20230503T100000
DTEND;TZID=UTC:20230503T113000
DTSTAMP:20260424T021925
CREATED:20230411T174016Z
LAST-MODIFIED:20230411T174016Z
UID:27427-1683108000-1683113400@enderbychapel.com
SUMMARY:Ladies Bible Study
DESCRIPTION:
URL:https://enderbychapel.com/event/ladies-bible-study-24/
LOCATION:BC
END:VEVENT
BEGIN:VEVENT
DTSTART;TZID=UTC:20230503T183000
DTEND;TZID=UTC:20230503T200000
DTSTAMP:20260424T021925
CREATED:20230411T180449Z
LAST-MODIFIED:20230411T180449Z
UID:27467-1683138600-1683144000@enderbychapel.com
SUMMARY:Jr Youth Grades 6-7
DESCRIPTION:
URL:https://enderbychapel.com/event/jr-youth-grades-6-7-9/
LOCATION:BC
END:VEVENT
END:VCALENDAR