BEGIN:VCALENDAR
VERSION:2.0
PRODID:-//The Chapel | Community, Church, Enderby, BC - ECPv6.6.4.1//NONSGML v1.0//EN
CALSCALE:GREGORIAN
METHOD:PUBLISH
X-ORIGINAL-URL:https://enderbychapel.com
X-WR-CALDESC:Events for The Chapel | Community, Church, Enderby, BC
REFRESH-INTERVAL;VALUE=DURATION:PT1H
X-Robots-Tag:noindex
X-PUBLISHED-TTL:PT1H
BEGIN:VTIMEZONE
TZID:UTC
BEGIN:STANDARD
TZOFFSETFROM:+0000
TZOFFSETTO:+0000
TZNAME:UTC
DTSTART:20230101T000000
END:STANDARD
END:VTIMEZONE
BEGIN:VEVENT
DTSTART;TZID=UTC:20230523T103000
DTEND;TZID=UTC:20230523T120000
DTSTAMP:20260424T022132
CREATED:20230411T175738Z
LAST-MODIFIED:20230411T175738Z
UID:27449-1684837800-1684843200@enderbychapel.com
SUMMARY:Small Group
DESCRIPTION:
URL:https://enderbychapel.com/event/small-group-19/
LOCATION:BC
END:VEVENT
BEGIN:VEVENT
DTSTART;TZID=UTC:20230523T183000
DTEND;TZID=UTC:20230523T200000
DTSTAMP:20260424T022132
CREATED:20230411T180335Z
LAST-MODIFIED:20230411T180335Z
UID:27463-1684866600-1684872000@enderbychapel.com
SUMMARY:Youth Small Group Grades 7-12
DESCRIPTION:
URL:https://enderbychapel.com/event/youth-small-group-grades-7-12-8/
LOCATION:BC
END:VEVENT
END:VCALENDAR