BEGIN:VCALENDAR
VERSION:2.0
PRODID:-//The Chapel | Community, Church, Enderby, BC - ECPv6.6.4.1//NONSGML v1.0//EN
CALSCALE:GREGORIAN
METHOD:PUBLISH
X-WR-CALNAME:The Chapel | Community, Church, Enderby, BC
X-ORIGINAL-URL:https://enderbychapel.com
X-WR-CALDESC:Events for The Chapel | Community, Church, Enderby, BC
REFRESH-INTERVAL;VALUE=DURATION:PT1H
X-Robots-Tag:noindex
X-PUBLISHED-TTL:PT1H
BEGIN:VTIMEZONE
TZID:UTC
BEGIN:STANDARD
TZOFFSETFROM:+0000
TZOFFSETTO:+0000
TZNAME:UTC
DTSTART:20230101T000000
END:STANDARD
END:VTIMEZONE
BEGIN:VEVENT
DTSTART;TZID=UTC:20230923T083000
DTEND;TZID=UTC:20230923T163000
DTSTAMP:20260423T013521
CREATED:20230718T161507Z
LAST-MODIFIED:20230718T161556Z
UID:27568-1695457800-1695486600@enderbychapel.com
SUMMARY:Doing Family Right weekend Marriage Building Event
DESCRIPTION:
URL:https://enderbychapel.com/event/doing-family-right-weekend-marriage-building-event/
LOCATION:BC
END:VEVENT
END:VCALENDAR