BEGIN:VCALENDAR
VERSION:2.0
PRODID:-//The Chapel | Community, Church, Enderby, BC - ECPv6.6.4.1//NONSGML v1.0//EN
CALSCALE:GREGORIAN
METHOD:PUBLISH
X-ORIGINAL-URL:https://enderbychapel.com
X-WR-CALDESC:Events for The Chapel | Community, Church, Enderby, BC
REFRESH-INTERVAL;VALUE=DURATION:PT1H
X-Robots-Tag:noindex
X-PUBLISHED-TTL:PT1H
BEGIN:VTIMEZONE
TZID:UTC
BEGIN:STANDARD
TZOFFSETFROM:+0000
TZOFFSETTO:+0000
TZNAME:UTC
DTSTART:20230101T000000
END:STANDARD
END:VTIMEZONE
BEGIN:VEVENT
DTSTART;TZID=UTC:20231114T103000
DTEND;TZID=UTC:20231114T120000
DTSTAMP:20260422T093535
CREATED:20231107T211931Z
LAST-MODIFIED:20231107T211931Z
UID:27767-1699957800-1699963200@enderbychapel.com
SUMMARY:Small Group
DESCRIPTION:
URL:https://enderbychapel.com/event/small-group-39/
LOCATION:BC
END:VEVENT
BEGIN:VEVENT
DTSTART;TZID=UTC:20231114T183000
DTEND;TZID=UTC:20231114T200000
DTSTAMP:20260422T093535
CREATED:20231107T213002Z
LAST-MODIFIED:20231107T213002Z
UID:27811-1699986600-1699992000@enderbychapel.com
SUMMARY:Sr Youth Bible Study
DESCRIPTION:
URL:https://enderbychapel.com/event/sr-youth-bible-study-7/
LOCATION:BC
END:VEVENT
END:VCALENDAR