BEGIN:VCALENDAR
VERSION:2.0
PRODID:-//The Chapel | Community, Church, Enderby, BC - ECPv6.6.4.1//NONSGML v1.0//EN
CALSCALE:GREGORIAN
METHOD:PUBLISH
X-WR-CALNAME:The Chapel | Community, Church, Enderby, BC
X-ORIGINAL-URL:https://enderbychapel.com
X-WR-CALDESC:Events for The Chapel | Community, Church, Enderby, BC
REFRESH-INTERVAL;VALUE=DURATION:PT1H
X-Robots-Tag:noindex
X-PUBLISHED-TTL:PT1H
BEGIN:VTIMEZONE
TZID:UTC
BEGIN:STANDARD
TZOFFSETFROM:+0000
TZOFFSETTO:+0000
TZNAME:UTC
DTSTART:20230101T000000
END:STANDARD
END:VTIMEZONE
BEGIN:VEVENT
DTSTART;TZID=UTC:20231122T100000
DTEND;TZID=UTC:20231122T113000
DTSTAMP:20260422T133551
CREATED:20231107T212539Z
LAST-MODIFIED:20231107T212539Z
UID:27791-1700647200-1700652600@enderbychapel.com
SUMMARY:Ladies' Bible Study
DESCRIPTION:
URL:https://enderbychapel.com/event/ladies-bible-study-34/
LOCATION:BC
END:VEVENT
BEGIN:VEVENT
DTSTART;TZID=UTC:20231122T183000
DTEND;TZID=UTC:20231122T200000
DTSTAMP:20260422T133551
CREATED:20231107T205503Z
LAST-MODIFIED:20231107T205503Z
UID:27721-1700677800-1700683200@enderbychapel.com
SUMMARY:Jr Youth (grades 6-7)
DESCRIPTION:
URL:https://enderbychapel.com/event/jr-youth-grades-6-7-25/
LOCATION:BC
END:VEVENT
END:VCALENDAR