BEGIN:VCALENDAR
VERSION:2.0
PRODID:-//The Chapel | Community, Church, Enderby, BC - ECPv6.6.4.1//NONSGML v1.0//EN
CALSCALE:GREGORIAN
METHOD:PUBLISH
X-ORIGINAL-URL:https://enderbychapel.com
X-WR-CALDESC:Events for The Chapel | Community, Church, Enderby, BC
REFRESH-INTERVAL;VALUE=DURATION:PT1H
X-Robots-Tag:noindex
X-PUBLISHED-TTL:PT1H
BEGIN:VTIMEZONE
TZID:UTC
BEGIN:STANDARD
TZOFFSETFROM:+0000
TZOFFSETTO:+0000
TZNAME:UTC
DTSTART:20230101T000000
END:STANDARD
END:VTIMEZONE
BEGIN:VEVENT
DTSTART;TZID=UTC:20231203T100000
DTEND;TZID=UTC:20231203T113000
DTSTAMP:20260422T093504
CREATED:20231107T214629Z
LAST-MODIFIED:20231107T214629Z
UID:27872-1701597600-1701603000@enderbychapel.com
SUMMARY:Drama "The Heart of Christmas"
DESCRIPTION:
URL:https://enderbychapel.com/event/drama-the-heart-of-christmas-2/
LOCATION:BC
END:VEVENT
BEGIN:VEVENT
DTSTART;TZID=UTC:20231203T130000
DTEND;TZID=UTC:20231203T143000
DTSTAMP:20260422T093504
CREATED:20231107T214652Z
LAST-MODIFIED:20231107T214652Z
UID:27874-1701608400-1701613800@enderbychapel.com
SUMMARY:Drama "The Heart of Christmas"
DESCRIPTION:
URL:https://enderbychapel.com/event/drama-the-heart-of-christmas-3/
LOCATION:BC
END:VEVENT
END:VCALENDAR