BEGIN:VCALENDAR
VERSION:2.0
PRODID:-//The Chapel | Community, Church, Enderby, BC - ECPv6.6.4.1//NONSGML v1.0//EN
CALSCALE:GREGORIAN
METHOD:PUBLISH
X-ORIGINAL-URL:https://enderbychapel.com
X-WR-CALDESC:Events for The Chapel | Community, Church, Enderby, BC
REFRESH-INTERVAL;VALUE=DURATION:PT1H
X-Robots-Tag:noindex
X-PUBLISHED-TTL:PT1H
BEGIN:VTIMEZONE
TZID:UTC
BEGIN:STANDARD
TZOFFSETFROM:+0000
TZOFFSETTO:+0000
TZNAME:UTC
DTSTART:20230101T000000
END:STANDARD
END:VTIMEZONE
BEGIN:VEVENT
DTSTART;TZID=UTC:20231213T100000
DTEND;TZID=UTC:20231213T113000
DTSTAMP:20260422T055112
CREATED:20231107T212642Z
LAST-MODIFIED:20231107T212642Z
UID:27797-1702461600-1702467000@enderbychapel.com
SUMMARY:Ladies' Bible Study
DESCRIPTION:
URL:https://enderbychapel.com/event/ladies-bible-study-37/
LOCATION:BC
END:VEVENT
BEGIN:VEVENT
DTSTART;TZID=UTC:20231213T183000
DTEND;TZID=UTC:20231213T200000
DTSTAMP:20260422T055112
CREATED:20231107T205620Z
LAST-MODIFIED:20231107T210125Z
UID:27727-1702492200-1702497600@enderbychapel.com
SUMMARY:Jr Youth (grades 6-7)
DESCRIPTION:
URL:https://enderbychapel.com/event/jr-youth-grades-6-7-28/
LOCATION:BC
END:VEVENT
END:VCALENDAR