BEGIN:VCALENDAR
VERSION:2.0
PRODID:-//The Chapel | Community, Church, Enderby, BC - ECPv6.6.4.1//NONSGML v1.0//EN
CALSCALE:GREGORIAN
METHOD:PUBLISH
X-WR-CALNAME:The Chapel | Community, Church, Enderby, BC
X-ORIGINAL-URL:https://enderbychapel.com
X-WR-CALDESC:Events for The Chapel | Community, Church, Enderby, BC
REFRESH-INTERVAL;VALUE=DURATION:PT1H
X-Robots-Tag:noindex
X-PUBLISHED-TTL:PT1H
BEGIN:VTIMEZONE
TZID:UTC
BEGIN:STANDARD
TZOFFSETFROM:+0000
TZOFFSETTO:+0000
TZNAME:UTC
DTSTART:20240101T000000
END:STANDARD
END:VTIMEZONE
BEGIN:VEVENT
DTSTART;TZID=UTC:20240102T103000
DTEND;TZID=UTC:20240102T120000
DTSTAMP:20260422T013755
CREATED:20231107T212239Z
LAST-MODIFIED:20231228T171901Z
UID:27781-1704191400-1704196800@enderbychapel.com
SUMMARY:Daytime Small Group
DESCRIPTION:
URL:https://enderbychapel.com/event/no-small-group-christmas-break-2/
LOCATION:BC
END:VEVENT
BEGIN:VEVENT
DTSTART;TZID=UTC:20240102T183000
DTEND;TZID=UTC:20240102T200000
DTSTAMP:20260422T013755
CREATED:20231107T213225Z
LAST-MODIFIED:20231228T171944Z
UID:27825-1704220200-1704225600@enderbychapel.com
SUMMARY:NO Sr Youth Bible Study - Christmas break
DESCRIPTION:
URL:https://enderbychapel.com/event/no-sr-youth-bible-study-christmas-break-3/
LOCATION:BC
END:VEVENT
END:VCALENDAR