BEGIN:VCALENDAR
VERSION:2.0
PRODID:-//The Chapel | Community, Church, Enderby, BC - ECPv6.6.4.1//NONSGML v1.0//EN
CALSCALE:GREGORIAN
METHOD:PUBLISH
X-WR-CALNAME:The Chapel | Community, Church, Enderby, BC
X-ORIGINAL-URL:https://enderbychapel.com
X-WR-CALDESC:Events for The Chapel | Community, Church, Enderby, BC
REFRESH-INTERVAL;VALUE=DURATION:PT1H
X-Robots-Tag:noindex
X-PUBLISHED-TTL:PT1H
BEGIN:VTIMEZONE
TZID:UTC
BEGIN:STANDARD
TZOFFSETFROM:+0000
TZOFFSETTO:+0000
TZNAME:UTC
DTSTART:20240101T000000
END:STANDARD
END:VTIMEZONE
BEGIN:VEVENT
DTSTART;TZID=UTC:20240109T103000
DTEND;TZID=UTC:20240109T120000
DTSTAMP:20260422T013757
CREATED:20231107T212304Z
LAST-MODIFIED:20231107T212304Z
UID:27783-1704796200-1704801600@enderbychapel.com
SUMMARY:Small Group
DESCRIPTION:
URL:https://enderbychapel.com/event/small-group-45/
LOCATION:BC
END:VEVENT
BEGIN:VEVENT
DTSTART;TZID=UTC:20240109T183000
DTEND;TZID=UTC:20240109T200000
DTSTAMP:20260422T013757
CREATED:20231107T213251Z
LAST-MODIFIED:20231107T213251Z
UID:27827-1704825000-1704830400@enderbychapel.com
SUMMARY:Sr Youth Bible Study
DESCRIPTION:
URL:https://enderbychapel.com/event/sr-youth-bible-study-12/
LOCATION:BC
END:VEVENT
END:VCALENDAR