BEGIN:VCALENDAR
VERSION:2.0
PRODID:-//The Chapel | Community, Church, Enderby, BC - ECPv6.6.4.1//NONSGML v1.0//EN
CALSCALE:GREGORIAN
METHOD:PUBLISH
X-ORIGINAL-URL:https://enderbychapel.com
X-WR-CALDESC:Events for The Chapel | Community, Church, Enderby, BC
REFRESH-INTERVAL;VALUE=DURATION:PT1H
X-Robots-Tag:noindex
X-PUBLISHED-TTL:PT1H
BEGIN:VTIMEZONE
TZID:UTC
BEGIN:STANDARD
TZOFFSETFROM:+0000
TZOFFSETTO:+0000
TZNAME:UTC
DTSTART:20240101T000000
END:STANDARD
END:VTIMEZONE
BEGIN:VEVENT
DTSTART;TZID=UTC:20240117T100000
DTEND;TZID=UTC:20240117T120000
DTSTAMP:20260422T013828
CREATED:20231228T172115Z
LAST-MODIFIED:20231228T172115Z
UID:27898-1705485600-1705492800@enderbychapel.com
SUMMARY:Ladies Bible Study
DESCRIPTION:
URL:https://enderbychapel.com/event/ladies-bible-study-39/
LOCATION:BC
END:VEVENT
BEGIN:VEVENT
DTSTART;TZID=UTC:20240117T183000
DTEND;TZID=UTC:20240117T200000
DTSTAMP:20260422T013828
CREATED:20240111T202813Z
LAST-MODIFIED:20240111T202813Z
UID:27932-1705516200-1705521600@enderbychapel.com
SUMMARY:Jr Youth (grades 5-7)
DESCRIPTION:
URL:https://enderbychapel.com/event/jr-youth-grades-5-7/
LOCATION:BC
END:VEVENT
END:VCALENDAR