BEGIN:VCALENDAR
VERSION:2.0
PRODID:-//The Chapel | Community, Church, Enderby, BC - ECPv6.6.4.1//NONSGML v1.0//EN
CALSCALE:GREGORIAN
METHOD:PUBLISH
X-WR-CALNAME:The Chapel | Community, Church, Enderby, BC
X-ORIGINAL-URL:https://enderbychapel.com
X-WR-CALDESC:Events for The Chapel | Community, Church, Enderby, BC
REFRESH-INTERVAL;VALUE=DURATION:PT1H
X-Robots-Tag:noindex
X-PUBLISHED-TTL:PT1H
BEGIN:VTIMEZONE
TZID:UTC
BEGIN:STANDARD
TZOFFSETFROM:+0000
TZOFFSETTO:+0000
TZNAME:UTC
DTSTART:20240101T000000
END:STANDARD
END:VTIMEZONE
BEGIN:VEVENT
DTSTART;TZID=UTC:20240130T103000
DTEND;TZID=UTC:20240130T120000
DTSTAMP:20260421T215021
CREATED:20240111T202552Z
LAST-MODIFIED:20240111T202552Z
UID:27924-1706610600-1706616000@enderbychapel.com
SUMMARY:Small Group
DESCRIPTION:
URL:https://enderbychapel.com/event/small-group-48/
LOCATION:BC
END:VEVENT
BEGIN:VEVENT
DTSTART;TZID=UTC:20240130T183000
DTEND;TZID=UTC:20240130T200000
DTSTAMP:20260421T215021
CREATED:20240111T202720Z
LAST-MODIFIED:20240111T202720Z
UID:27930-1706639400-1706644800@enderbychapel.com
SUMMARY:Youth Small Group
DESCRIPTION:
URL:https://enderbychapel.com/event/youth-small-group-3/
LOCATION:BC
END:VEVENT
END:VCALENDAR