BEGIN:VCALENDAR
VERSION:2.0
PRODID:-//The Chapel | Community, Church, Enderby, BC - ECPv6.6.4.1//NONSGML v1.0//EN
CALSCALE:GREGORIAN
METHOD:PUBLISH
X-WR-CALNAME:The Chapel | Community, Church, Enderby, BC
X-ORIGINAL-URL:https://enderbychapel.com
X-WR-CALDESC:Events for The Chapel | Community, Church, Enderby, BC
REFRESH-INTERVAL;VALUE=DURATION:PT1H
X-Robots-Tag:noindex
X-PUBLISHED-TTL:PT1H
BEGIN:VTIMEZONE
TZID:UTC
BEGIN:STANDARD
TZOFFSETFROM:+0000
TZOFFSETTO:+0000
TZNAME:UTC
DTSTART:20240101T000000
END:STANDARD
END:VTIMEZONE
BEGIN:VEVENT
DTSTART;TZID=UTC:20240202T190000
DTEND;TZID=UTC:20240202T210000
DTSTAMP:20260421T215105
CREATED:20240130T224833Z
LAST-MODIFIED:20240130T224833Z
UID:27945-1706900400-1706907600@enderbychapel.com
SUMMARY:Sr Youth (gr 8-12)
DESCRIPTION:
URL:https://enderbychapel.com/event/sr-youth-gr-8-12-16/
LOCATION:BC
END:VEVENT
END:VCALENDAR