BEGIN:VCALENDAR
VERSION:2.0
PRODID:-//The Chapel | Community, Church, Enderby, BC - ECPv6.6.4.1//NONSGML v1.0//EN
CALSCALE:GREGORIAN
METHOD:PUBLISH
X-ORIGINAL-URL:https://enderbychapel.com
X-WR-CALDESC:Events for The Chapel | Community, Church, Enderby, BC
REFRESH-INTERVAL;VALUE=DURATION:PT1H
X-Robots-Tag:noindex
X-PUBLISHED-TTL:PT1H
BEGIN:VTIMEZONE
TZID:UTC
BEGIN:STANDARD
TZOFFSETFROM:+0000
TZOFFSETTO:+0000
TZNAME:UTC
DTSTART:20240101T000000
END:STANDARD
END:VTIMEZONE
BEGIN:VEVENT
DTSTART;TZID=UTC:20240223T103000
DTEND;TZID=UTC:20240223T113000
DTSTAMP:20260421T215443
CREATED:20240130T230753Z
LAST-MODIFIED:20240130T230753Z
UID:28009-1708684200-1708687800@enderbychapel.com
SUMMARY:Parkview Ministry
DESCRIPTION:
URL:https://enderbychapel.com/event/parkview-ministry/
LOCATION:BC
END:VEVENT
BEGIN:VEVENT
DTSTART;TZID=UTC:20240223T190000
DTEND;TZID=UTC:20240223T210000
DTSTAMP:20260421T215443
CREATED:20240130T225033Z
LAST-MODIFIED:20240130T225033Z
UID:27951-1708714800-1708722000@enderbychapel.com
SUMMARY:Sr Youth (gr 8-12)
DESCRIPTION:
URL:https://enderbychapel.com/event/sr-youth-gr-8-12-20/
LOCATION:BC
END:VEVENT
END:VCALENDAR