BEGIN:VCALENDAR
VERSION:2.0
PRODID:-//The Chapel | Community, Church, Enderby, BC - ECPv6.6.4.1//NONSGML v1.0//EN
CALSCALE:GREGORIAN
METHOD:PUBLISH
X-ORIGINAL-URL:https://enderbychapel.com
X-WR-CALDESC:Events for The Chapel | Community, Church, Enderby, BC
REFRESH-INTERVAL;VALUE=DURATION:PT1H
X-Robots-Tag:noindex
X-PUBLISHED-TTL:PT1H
BEGIN:VTIMEZONE
TZID:UTC
BEGIN:STANDARD
TZOFFSETFROM:+0000
TZOFFSETTO:+0000
TZNAME:UTC
DTSTART:20240101T000000
END:STANDARD
END:VTIMEZONE
BEGIN:VEVENT
DTSTART;TZID=UTC:20240228T100000
DTEND;TZID=UTC:20240228T120000
DTSTAMP:20260421T182331
CREATED:20240130T230302Z
LAST-MODIFIED:20240130T230302Z
UID:27995-1709114400-1709121600@enderbychapel.com
SUMMARY:Ladies Bible Study
DESCRIPTION:
URL:https://enderbychapel.com/event/ladies-bible-study-45/
LOCATION:BC
END:VEVENT
BEGIN:VEVENT
DTSTART;TZID=UTC:20240228T183000
DTEND;TZID=UTC:20240228T200000
DTSTAMP:20260421T182331
CREATED:20240130T230447Z
LAST-MODIFIED:20240130T230447Z
UID:28003-1709145000-1709150400@enderbychapel.com
SUMMARY:Jr Youth (grades 5 -7)
DESCRIPTION:
URL:https://enderbychapel.com/event/jr-youth-grades-5-7-7/
LOCATION:BC
END:VEVENT
END:VCALENDAR