BEGIN:VCALENDAR
VERSION:2.0
PRODID:-//The Chapel | Community, Church, Enderby, BC - ECPv6.6.4.1//NONSGML v1.0//EN
CALSCALE:GREGORIAN
METHOD:PUBLISH
X-WR-CALNAME:The Chapel | Community, Church, Enderby, BC
X-ORIGINAL-URL:https://enderbychapel.com
X-WR-CALDESC:Events for The Chapel | Community, Church, Enderby, BC
REFRESH-INTERVAL;VALUE=DURATION:PT1H
X-Robots-Tag:noindex
X-PUBLISHED-TTL:PT1H
BEGIN:VTIMEZONE
TZID:UTC
BEGIN:STANDARD
TZOFFSETFROM:+0000
TZOFFSETTO:+0000
TZNAME:UTC
DTSTART:20240101T000000
END:STANDARD
END:VTIMEZONE
BEGIN:VEVENT
DTSTART;TZID=UTC:20240306T100000
DTEND;TZID=UTC:20240306T120000
DTSTAMP:20260421T182019
CREATED:20240206T211127Z
LAST-MODIFIED:20240206T211127Z
UID:28061-1709719200-1709726400@enderbychapel.com
SUMMARY:Ladies' Bible Study
DESCRIPTION:
URL:https://enderbychapel.com/event/ladies-bible-study-46/
LOCATION:BC
END:VEVENT
BEGIN:VEVENT
DTSTART;TZID=UTC:20240306T183000
DTEND;TZID=UTC:20240306T200000
DTSTAMP:20260421T182019
CREATED:20240206T211323Z
LAST-MODIFIED:20240206T211323Z
UID:28069-1709749800-1709755200@enderbychapel.com
SUMMARY:Jr Youth Grades 5-7
DESCRIPTION:
URL:https://enderbychapel.com/event/jr-youth-grades-5-7-8/
LOCATION:BC
END:VEVENT
END:VCALENDAR