BEGIN:VCALENDAR
VERSION:2.0
PRODID:-//The Chapel | Community, Church, Enderby, BC - ECPv6.6.4.1//NONSGML v1.0//EN
CALSCALE:GREGORIAN
METHOD:PUBLISH
X-ORIGINAL-URL:https://enderbychapel.com
X-WR-CALDESC:Events for The Chapel | Community, Church, Enderby, BC
REFRESH-INTERVAL;VALUE=DURATION:PT1H
X-Robots-Tag:noindex
X-PUBLISHED-TTL:PT1H
BEGIN:VTIMEZONE
TZID:UTC
BEGIN:STANDARD
TZOFFSETFROM:+0000
TZOFFSETTO:+0000
TZNAME:UTC
DTSTART:20240101T000000
END:STANDARD
END:VTIMEZONE
BEGIN:VEVENT
DTSTART;TZID=UTC:20240315T190000
DTEND;TZID=UTC:20240315T210000
DTSTAMP:20260421T182409
CREATED:20240206T205930Z
LAST-MODIFIED:20240206T205930Z
UID:28018-1710529200-1710536400@enderbychapel.com
SUMMARY:Sr Youth grades 8-12
DESCRIPTION:
URL:https://enderbychapel.com/event/sr-youth-grades-8-12-35/
LOCATION:BC
END:VEVENT
END:VCALENDAR