BEGIN:VCALENDAR
VERSION:2.0
PRODID:-//The Chapel | Community, Church, Enderby, BC - ECPv6.6.4.1//NONSGML v1.0//EN
CALSCALE:GREGORIAN
METHOD:PUBLISH
X-WR-CALNAME:The Chapel | Community, Church, Enderby, BC
X-ORIGINAL-URL:https://enderbychapel.com
X-WR-CALDESC:Events for The Chapel | Community, Church, Enderby, BC
REFRESH-INTERVAL;VALUE=DURATION:PT1H
X-Robots-Tag:noindex
X-PUBLISHED-TTL:PT1H
BEGIN:VTIMEZONE
TZID:UTC
BEGIN:STANDARD
TZOFFSETFROM:+0000
TZOFFSETTO:+0000
TZNAME:UTC
DTSTART:20240101T000000
END:STANDARD
END:VTIMEZONE
BEGIN:VEVENT
DTSTART;TZID=UTC:20240326T103000
DTEND;TZID=UTC:20240326T120000
DTSTAMP:20260421T181945
CREATED:20240206T210709Z
LAST-MODIFIED:20240206T210709Z
UID:28048-1711449000-1711454400@enderbychapel.com
SUMMARY:Small Group
DESCRIPTION:
URL:https://enderbychapel.com/event/small-group-55/
LOCATION:BC
END:VEVENT
BEGIN:VEVENT
DTSTART;TZID=UTC:20240326T183000
DTEND;TZID=UTC:20240326T200000
DTSTAMP:20260421T181945
CREATED:20240206T211026Z
LAST-MODIFIED:20240206T211026Z
UID:28058-1711477800-1711483200@enderbychapel.com
SUMMARY:NO Sr Youth Small Group - spring break
DESCRIPTION:
URL:https://enderbychapel.com/event/no-sr-youth-small-group-spring-break-2/
LOCATION:BC
END:VEVENT
END:VCALENDAR