BEGIN:VCALENDAR
VERSION:2.0
PRODID:-//The Chapel | Community, Church, Enderby, BC - ECPv6.6.4.1//NONSGML v1.0//EN
CALSCALE:GREGORIAN
METHOD:PUBLISH
X-WR-CALNAME:The Chapel | Community, Church, Enderby, BC
X-ORIGINAL-URL:https://enderbychapel.com
X-WR-CALDESC:Events for The Chapel | Community, Church, Enderby, BC
REFRESH-INTERVAL;VALUE=DURATION:PT1H
X-Robots-Tag:noindex
X-PUBLISHED-TTL:PT1H
BEGIN:VTIMEZONE
TZID:UTC
BEGIN:STANDARD
TZOFFSETFROM:+0000
TZOFFSETTO:+0000
TZNAME:UTC
DTSTART:20240101T000000
END:STANDARD
END:VTIMEZONE
BEGIN:VEVENT
DTSTART;TZID=UTC:20240423T103000
DTEND;TZID=UTC:20240423T120000
DTSTAMP:20260421T145108
CREATED:20240312T190017Z
LAST-MODIFIED:20240312T190017Z
UID:28112-1713868200-1713873600@enderbychapel.com
SUMMARY:Small Group
DESCRIPTION:
URL:https://enderbychapel.com/event/small-group-58/
LOCATION:BC
END:VEVENT
BEGIN:VEVENT
DTSTART;TZID=UTC:20240423T183000
DTEND;TZID=UTC:20240423T200000
DTSTAMP:20260421T145108
CREATED:20240312T193920Z
LAST-MODIFIED:20240312T193920Z
UID:28125-1713897000-1713902400@enderbychapel.com
SUMMARY:Sr Youth Small Group
DESCRIPTION:
URL:https://enderbychapel.com/event/sr-youth-small-group-6/
LOCATION:BC
END:VEVENT
END:VCALENDAR