BEGIN:VCALENDAR
VERSION:2.0
PRODID:-//The Chapel | Community, Church, Enderby, BC - ECPv6.6.4.1//NONSGML v1.0//EN
CALSCALE:GREGORIAN
METHOD:PUBLISH
X-WR-CALNAME:The Chapel | Community, Church, Enderby, BC
X-ORIGINAL-URL:https://enderbychapel.com
X-WR-CALDESC:Events for The Chapel | Community, Church, Enderby, BC
REFRESH-INTERVAL;VALUE=DURATION:PT1H
X-Robots-Tag:noindex
X-PUBLISHED-TTL:PT1H
BEGIN:VTIMEZONE
TZID:UTC
BEGIN:STANDARD
TZOFFSETFROM:+0000
TZOFFSETTO:+0000
TZNAME:UTC
DTSTART:20240101T000000
END:STANDARD
END:VTIMEZONE
BEGIN:VEVENT
DTSTART;TZID=UTC:20240501T100000
DTEND;TZID=UTC:20240501T113000
DTSTAMP:20260421T144948
CREATED:20240409T192039Z
LAST-MODIFIED:20240409T192039Z
UID:28162-1714557600-1714563000@enderbychapel.com
SUMMARY:Ladies Bible Study
DESCRIPTION:
URL:https://enderbychapel.com/event/ladies-bible-study-54/
LOCATION:BC
END:VEVENT
BEGIN:VEVENT
DTSTART;TZID=UTC:20240501T183000
DTEND;TZID=UTC:20240501T200000
DTSTAMP:20260421T144948
CREATED:20240409T192301Z
LAST-MODIFIED:20240409T192301Z
UID:28172-1714588200-1714593600@enderbychapel.com
SUMMARY:Jr Youth (grades 5-7)
DESCRIPTION:
URL:https://enderbychapel.com/event/jr-youth-grades-5-7-14/
LOCATION:BC
END:VEVENT
END:VCALENDAR