BEGIN:VCALENDAR
VERSION:2.0
PRODID:-//The Chapel | Community, Church, Enderby, BC - ECPv6.6.4.1//NONSGML v1.0//EN
CALSCALE:GREGORIAN
METHOD:PUBLISH
X-WR-CALNAME:The Chapel | Community, Church, Enderby, BC
X-ORIGINAL-URL:https://enderbychapel.com
X-WR-CALDESC:Events for The Chapel | Community, Church, Enderby, BC
REFRESH-INTERVAL;VALUE=DURATION:PT1H
X-Robots-Tag:noindex
X-PUBLISHED-TTL:PT1H
BEGIN:VTIMEZONE
TZID:UTC
BEGIN:STANDARD
TZOFFSETFROM:+0000
TZOFFSETTO:+0000
TZNAME:UTC
DTSTART:20240101T000000
END:STANDARD
END:VTIMEZONE
BEGIN:VEVENT
DTSTART;TZID=UTC:20241127T093000
DTEND;TZID=UTC:20241127T110000
DTSTAMP:20260420T111440
CREATED:20241119T211134Z
LAST-MODIFIED:20241119T211134Z
UID:28341-1732699800-1732705200@enderbychapel.com
SUMMARY:Ladies' Bible Study
DESCRIPTION:
URL:https://enderbychapel.com/event/ladies-bible-study-60/
LOCATION:BC
END:VEVENT
BEGIN:VEVENT
DTSTART;TZID=UTC:20241127T183000
DTEND;TZID=UTC:20241127T200000
DTSTAMP:20260420T111440
CREATED:20241119T202339Z
LAST-MODIFIED:20241119T202339Z
UID:28301-1732732200-1732737600@enderbychapel.com
SUMMARY:Jr Youth gr 5-7
DESCRIPTION:
URL:https://enderbychapel.com/event/jr-youth-gr-5-7-2/
LOCATION:BC
END:VEVENT
END:VCALENDAR