BEGIN:VCALENDAR
VERSION:2.0
PRODID:-//The Chapel | Community, Church, Enderby, BC - ECPv6.6.4.1//NONSGML v1.0//EN
CALSCALE:GREGORIAN
METHOD:PUBLISH
X-WR-CALNAME:The Chapel | Community, Church, Enderby, BC
X-ORIGINAL-URL:https://enderbychapel.com
X-WR-CALDESC:Events for The Chapel | Community, Church, Enderby, BC
REFRESH-INTERVAL;VALUE=DURATION:PT1H
X-Robots-Tag:noindex
X-PUBLISHED-TTL:PT1H
BEGIN:VTIMEZONE
TZID:UTC
BEGIN:STANDARD
TZOFFSETFROM:+0000
TZOFFSETTO:+0000
TZNAME:UTC
DTSTART:20240101T000000
END:STANDARD
END:VTIMEZONE
BEGIN:VEVENT
DTSTART;TZID=UTC:20241218T183000
DTEND;TZID=UTC:20241218T200000
DTSTAMP:20260420T111354
CREATED:20241119T202609Z
LAST-MODIFIED:20241119T202609Z
UID:28307-1734546600-1734552000@enderbychapel.com
SUMMARY:Jr Youth gr 5-7 Christmas Party
DESCRIPTION:
URL:https://enderbychapel.com/event/jr-youth-gr-5-7-christmas-party/
LOCATION:BC
END:VEVENT
END:VCALENDAR