BEGIN:VCALENDAR
VERSION:2.0
PRODID:-//The Chapel | Community, Church, Enderby, BC - ECPv6.6.4.1//NONSGML v1.0//EN
CALSCALE:GREGORIAN
METHOD:PUBLISH
X-ORIGINAL-URL:https://enderbychapel.com
X-WR-CALDESC:Events for The Chapel | Community, Church, Enderby, BC
REFRESH-INTERVAL;VALUE=DURATION:PT1H
X-Robots-Tag:noindex
X-PUBLISHED-TTL:PT1H
BEGIN:VTIMEZONE
TZID:UTC
BEGIN:STANDARD
TZOFFSETFROM:+0000
TZOFFSETTO:+0000
TZNAME:UTC
DTSTART:20250101T000000
END:STANDARD
END:VTIMEZONE
BEGIN:VEVENT
DTSTART;TZID=UTC:20250403T080000
DTEND;TZID=UTC:20250403T103000
DTSTAMP:20260419T190613
CREATED:20250403T160511Z
LAST-MODIFIED:20250403T160511Z
UID:28398-1743667200-1743676200@enderbychapel.com
SUMMARY:Easter Walk
DESCRIPTION:Ashton Creek Church invites all to join them in their annual Easter Walk.\nThe morning walk starts 8 a.m. sharp at the Church building; 11 Rands Road\, Enderby district.\nIt is about a 30 minute walk/hike to our destination up the mountain on well maintained gravel road. The outdoor service includes worship\, testimonies and a short message. After the hike you are invited to breakfast at the church; porridge\, coffee and tea will be provided. You are invited to bring a food dish to share as well.  \nFor more information: info@accf.ca or 250.899.5533 (text or call).
URL:https://enderbychapel.com/event/easter-walk/
LOCATION:BC
END:VEVENT
END:VCALENDAR