BEGIN:VCALENDAR
VERSION:2.0
PRODID:-//The Chapel | Community, Church, Enderby, BC - ECPv6.6.4.1//NONSGML v1.0//EN
CALSCALE:GREGORIAN
METHOD:PUBLISH
X-WR-CALNAME:The Chapel | Community, Church, Enderby, BC
X-ORIGINAL-URL:https://enderbychapel.com
X-WR-CALDESC:Events for The Chapel | Community, Church, Enderby, BC
REFRESH-INTERVAL;VALUE=DURATION:PT1H
X-Robots-Tag:noindex
X-PUBLISHED-TTL:PT1H
BEGIN:VTIMEZONE
TZID:UTC
BEGIN:STANDARD
TZOFFSETFROM:+0000
TZOFFSETTO:+0000
TZNAME:UTC
DTSTART:20260101T000000
END:STANDARD
END:VTIMEZONE
BEGIN:VEVENT
DTSTART;TZID=UTC:20260414T100000
DTEND;TZID=UTC:20260414T113000
DTSTAMP:20260424T033254
CREATED:20260402T210102Z
LAST-MODIFIED:20260402T215018Z
UID:28804-1776160800-1776166200@enderbychapel.com
SUMMARY:Small Group
DESCRIPTION:
URL:https://enderbychapel.com/event/small-group-bible-study/
LOCATION:Enderby Chapel\, 706 Mill Ave\, Enderby\, BC\, V0E 1V0\, Canada
END:VEVENT
BEGIN:VEVENT
DTSTART;TZID=UTC:20260414T183000
DTEND;TZID=UTC:20260414T200000
DTSTAMP:20260424T033254
CREATED:20260402T210202Z
LAST-MODIFIED:20260402T210202Z
UID:28806-1776191400-1776196800@enderbychapel.com
SUMMARY:Youth Bible Study (grade 7-12)
DESCRIPTION:
URL:https://enderbychapel.com/event/youth-bible-study-grade-7-12-7/
LOCATION:Enderby Chapel\, 706 Mill Ave\, Enderby\, BC\, V0E 1V0\, Canada
END:VEVENT
END:VCALENDAR