BEGIN:VCALENDAR
VERSION:2.0
PRODID:-//The Chapel | Community, Church, Enderby, BC - ECPv6.6.4.1//NONSGML v1.0//EN
CALSCALE:GREGORIAN
METHOD:PUBLISH
X-WR-CALNAME:The Chapel | Community, Church, Enderby, BC
X-ORIGINAL-URL:https://enderbychapel.com
X-WR-CALDESC:Events for The Chapel | Community, Church, Enderby, BC
REFRESH-INTERVAL;VALUE=DURATION:PT1H
X-Robots-Tag:noindex
X-PUBLISHED-TTL:PT1H
BEGIN:VTIMEZONE
TZID:UTC
BEGIN:STANDARD
TZOFFSETFROM:+0000
TZOFFSETTO:+0000
TZNAME:UTC
DTSTART:20260101T000000
END:STANDARD
END:VTIMEZONE
BEGIN:VEVENT
DTSTART;TZID=UTC:20260422T093000
DTEND;TZID=UTC:20260422T110000
DTSTAMP:20260422T041916
CREATED:20260402T213412Z
LAST-MODIFIED:20260402T213412Z
UID:28830-1776850200-1776855600@enderbychapel.com
SUMMARY:Ladies Bible Study
DESCRIPTION:
URL:https://enderbychapel.com/event/ladies-bible-study-77/
LOCATION:Enderby Chapel\, 706 Mill Ave\, Enderby\, BC\, V0E 1V0\, Canada
END:VEVENT
BEGIN:VEVENT
DTSTART;TZID=UTC:20260422T183000
DTEND;TZID=UTC:20260422T200000
DTSTAMP:20260422T041916
CREATED:20260402T214615Z
LAST-MODIFIED:20260402T214615Z
UID:28843-1776882600-1776888000@enderbychapel.com
SUMMARY:Junior Youth (grade 5-7)
DESCRIPTION:
URL:https://enderbychapel.com/event/junior-youth-grade-5-7-8/
LOCATION:Enderby Chapel\, 706 Mill Ave\, Enderby\, BC\, V0E 1V0\, Canada
END:VEVENT
END:VCALENDAR