BEGIN:VCALENDAR
VERSION:2.0
PRODID:-//The Chapel | Community, Church, Enderby, BC - ECPv6.6.4.1//NONSGML v1.0//EN
CALSCALE:GREGORIAN
METHOD:PUBLISH
X-WR-CALNAME:The Chapel | Community, Church, Enderby, BC
X-ORIGINAL-URL:https://enderbychapel.com
X-WR-CALDESC:Events for The Chapel | Community, Church, Enderby, BC
REFRESH-INTERVAL;VALUE=DURATION:PT1H
X-Robots-Tag:noindex
X-PUBLISHED-TTL:PT1H
BEGIN:VTIMEZONE
TZID:UTC
BEGIN:STANDARD
TZOFFSETFROM:+0000
TZOFFSETTO:+0000
TZNAME:UTC
DTSTART:20260101T000000
END:STANDARD
END:VTIMEZONE
BEGIN:VEVENT
DTSTART;TZID=UTC:20260522T180000
DTEND;TZID=UTC:20260522T200000
DTSTAMP:20260421T231342
CREATED:20260421T175230Z
LAST-MODIFIED:20260421T175545Z
UID:28898-1779472800-1779480000@enderbychapel.com
SUMMARY:Young Adult Women (grade 12+)
DESCRIPTION:Dinner provided.
URL:https://enderbychapel.com/event/young-adult-women-grade-12-10/
LOCATION:Enderby Chapel\, 706 Mill Ave\, Enderby\, BC\, V0E 1V0\, Canada
END:VEVENT
BEGIN:VEVENT
DTSTART;TZID=UTC:20260520T183000
DTEND;TZID=UTC:20260520T200000
DTSTAMP:20260421T231342
CREATED:20260421T174104Z
LAST-MODIFIED:20260421T174104Z
UID:28884-1779301800-1779307200@enderbychapel.com
SUMMARY:Junior Youth (grade 5-7)
DESCRIPTION:
URL:https://enderbychapel.com/event/junior-youth-grade-5-7-11/
LOCATION:Enderby Chapel\, 706 Mill Ave\, Enderby\, BC\, V0E 1V0\, Canada
END:VEVENT
BEGIN:VEVENT
DTSTART;TZID=UTC:20260520T093000
DTEND;TZID=UTC:20260520T110000
DTSTAMP:20260421T231342
CREATED:20260421T173647Z
LAST-MODIFIED:20260421T173647Z
UID:28875-1779269400-1779274800@enderbychapel.com
SUMMARY:Ladies Bible Study
DESCRIPTION:
URL:https://enderbychapel.com/event/ladies-bible-study-81/
LOCATION:Enderby Chapel\, 706 Mill Ave\, Enderby\, BC\, V0E 1V0\, Canada
END:VEVENT
BEGIN:VEVENT
DTSTART;TZID=UTC:20260519T183000
DTEND;TZID=UTC:20260519T200000
DTSTAMP:20260421T231342
CREATED:20260421T174430Z
LAST-MODIFIED:20260421T174430Z
UID:28890-1779215400-1779220800@enderbychapel.com
SUMMARY:Youth Bible Study (grade 7-12)
DESCRIPTION:
URL:https://enderbychapel.com/event/youth-bible-study-grade-7-12-11/
LOCATION:Enderby Chapel\, 706 Mill Ave\, Enderby\, BC\, V0E 1V0\, Canada
END:VEVENT
BEGIN:VEVENT
DTSTART;TZID=UTC:20260519T100000
DTEND;TZID=UTC:20260519T110000
DTSTAMP:20260421T231342
CREATED:20260421T173000Z
LAST-MODIFIED:20260421T173000Z
UID:28865-1779184800-1779188400@enderbychapel.com
SUMMARY:Small Group
DESCRIPTION:
URL:https://enderbychapel.com/event/small-group-71/
LOCATION:Enderby Chapel\, 706 Mill Ave\, Enderby\, BC\, V0E 1V0\, Canada
END:VEVENT
BEGIN:VEVENT
DTSTART;TZID=UTC:20260517T100000
DTEND;TZID=UTC:20260517T113000
DTSTAMP:20260421T231342
CREATED:20260421T172515Z
LAST-MODIFIED:20260421T172515Z
UID:28857-1779012000-1779017400@enderbychapel.com
SUMMARY:Sunday Service
DESCRIPTION:
URL:https://enderbychapel.com/event/sunday-service-68/
LOCATION:Enderby Chapel\, 706 Mill Ave\, Enderby\, BC\, V0E 1V0\, Canada
END:VEVENT
BEGIN:VEVENT
DTSTART;TZID=UTC:20260515T190000
DTEND;TZID=UTC:20260515T210000
DTSTAMP:20260421T231342
CREATED:20260421T180124Z
LAST-MODIFIED:20260421T180124Z
UID:28913-1778871600-1778878800@enderbychapel.com
SUMMARY:Senior Youth (grade 7-12)
DESCRIPTION:
URL:https://enderbychapel.com/event/senior-youth-grade-7-12-2/
LOCATION:Enderby Chapel\, 706 Mill Ave\, Enderby\, BC\, V0E 1V0\, Canada
END:VEVENT
BEGIN:VEVENT
DTSTART;TZID=UTC:20260515T180000
DTEND;TZID=UTC:20260515T200000
DTSTAMP:20260421T231342
CREATED:20260421T175441Z
LAST-MODIFIED:20260421T175441Z
UID:28903-1778868000-1778875200@enderbychapel.com
SUMMARY:Young Adult Women (grade 12+)
DESCRIPTION:Dinner provided.
URL:https://enderbychapel.com/event/young-adult-women-grade-12-11/
LOCATION:Enderby Chapel\, 706 Mill Ave\, Enderby\, BC\, V0E 1V0\, Canada
END:VEVENT
BEGIN:VEVENT
DTSTART;TZID=UTC:20260513T183000
DTEND;TZID=UTC:20260513T200000
DTSTAMP:20260421T231342
CREATED:20260421T173956Z
LAST-MODIFIED:20260421T174007Z
UID:28881-1778697000-1778702400@enderbychapel.com
SUMMARY:Junior Youth (grade 5-7)
DESCRIPTION:
URL:https://enderbychapel.com/event/junior-youth-22/
LOCATION:Enderby Chapel\, 706 Mill Ave\, Enderby\, BC\, V0E 1V0\, Canada
END:VEVENT
BEGIN:VEVENT
DTSTART;TZID=UTC:20260513T093000
DTEND;TZID=UTC:20260513T110000
DTSTAMP:20260421T231342
CREATED:20260421T173451Z
LAST-MODIFIED:20260421T173532Z
UID:28873-1778664600-1778670000@enderbychapel.com
SUMMARY:Ladies Bible Study
DESCRIPTION:
URL:https://enderbychapel.com/event/ladies-bible-study-80/
LOCATION:Enderby Chapel\, 706 Mill Ave\, Enderby\, BC\, V0E 1V0\, Canada
END:VEVENT
BEGIN:VEVENT
DTSTART;TZID=UTC:20260512T110000
DTEND;TZID=UTC:20260512T123000
DTSTAMP:20260421T231342
CREATED:20260421T173247Z
LAST-MODIFIED:20260421T173247Z
UID:28869-1778583600-1778589000@enderbychapel.com
SUMMARY:Keenagers Luncheon Event
DESCRIPTION:Potluck lunch\, Music and a speaker. No charge. A donation can be given to support missionaries.
URL:https://enderbychapel.com/event/keenagers-luncheon-event/
LOCATION:Enderby Chapel\, 706 Mill Ave\, Enderby\, BC\, V0E 1V0\, Canada
END:VEVENT
BEGIN:VEVENT
DTSTART;TZID=UTC:20260510T100000
DTEND;TZID=UTC:20260510T113000
DTSTAMP:20260421T231342
CREATED:20260421T172347Z
LAST-MODIFIED:20260421T172435Z
UID:28855-1778407200-1778412600@enderbychapel.com
SUMMARY:Sunday Service
DESCRIPTION:
URL:https://enderbychapel.com/event/sunday-service-67/
LOCATION:Enderby Chapel\, 706 Mill Ave\, Enderby\, BC\, V0E 1V0\, Canada
END:VEVENT
BEGIN:VEVENT
DTSTART;TZID=UTC:20260508T190000
DTEND;TZID=UTC:20260508T210000
DTSTAMP:20260421T231342
CREATED:20260421T175707Z
LAST-MODIFIED:20260421T175707Z
UID:28907-1778266800-1778274000@enderbychapel.com
SUMMARY:Senior Youth (grade 8-12)
DESCRIPTION:
URL:https://enderbychapel.com/event/senior-youth-grade-8-12-11/
LOCATION:Enderby Chapel\, 706 Mill Ave\, Enderby\, BC\, V0E 1V0\, Canada
END:VEVENT
BEGIN:VEVENT
DTSTART;TZID=UTC:20260508T180000
DTEND;TZID=UTC:20260508T200000
DTSTAMP:20260421T231342
CREATED:20260421T175042Z
LAST-MODIFIED:20260421T175042Z
UID:28894-1778263200-1778270400@enderbychapel.com
SUMMARY:Young Adult Women (grade12+)
DESCRIPTION:Meal provided.
URL:https://enderbychapel.com/event/young-adult-women-grade12/
LOCATION:Enderby Chapel\, 706 Mill Ave\, Enderby\, BC\, V0E 1V0\, Canada
END:VEVENT
BEGIN:VEVENT
DTSTART;TZID=UTC:20260506T183000
DTEND;TZID=UTC:20260506T200000
DTSTAMP:20260421T231342
CREATED:20260421T173857Z
LAST-MODIFIED:20260421T173857Z
UID:28879-1778092200-1778097600@enderbychapel.com
SUMMARY:Junior Youth (grade 5-7)
DESCRIPTION:
URL:https://enderbychapel.com/event/junior-youth-grade-5-7-10/
LOCATION:Enderby Chapel\, 706 Mill Ave\, Enderby\, BC\, V0E 1V0\, Canada
END:VEVENT
BEGIN:VEVENT
DTSTART;TZID=UTC:20260506T093000
DTEND;TZID=UTC:20260506T110000
DTSTAMP:20260421T231342
CREATED:20260421T173413Z
LAST-MODIFIED:20260421T173413Z
UID:28871-1778059800-1778065200@enderbychapel.com
SUMMARY:Ladies Bible Study
DESCRIPTION:
URL:https://enderbychapel.com/event/ladies-bible-study-79/
LOCATION:Enderby Chapel\, 706 Mill Ave\, Enderby\, BC\, V0E 1V0\, Canada
END:VEVENT
BEGIN:VEVENT
DTSTART;TZID=UTC:20260505T183000
DTEND;TZID=UTC:20260505T200000
DTSTAMP:20260421T231342
CREATED:20260421T174337Z
LAST-MODIFIED:20260421T174337Z
UID:28888-1778005800-1778011200@enderbychapel.com
SUMMARY:Youth Bible Study (grade 7-12)
DESCRIPTION:
URL:https://enderbychapel.com/event/youth-bible-study-grade-7-12-10/
LOCATION:Enderby Chapel\, 706 Mill Ave\, Enderby\, BC\, V0E 1V0\, Canada
END:VEVENT
BEGIN:VEVENT
DTSTART;TZID=UTC:20260505T100000
DTEND;TZID=UTC:20260505T110000
DTSTAMP:20260421T231342
CREATED:20260421T172911Z
LAST-MODIFIED:20260421T172911Z
UID:28863-1777975200-1777978800@enderbychapel.com
SUMMARY:Small Group
DESCRIPTION:
URL:https://enderbychapel.com/event/small-group-70/
LOCATION:Enderby Chapel\, 706 Mill Ave\, Enderby\, BC\, V0E 1V0\, Canada
END:VEVENT
BEGIN:VEVENT
DTSTART;TZID=UTC:20260503T100000
DTEND;TZID=UTC:20260503T113000
DTSTAMP:20260421T231342
CREATED:20260402T212056Z
LAST-MODIFIED:20260402T212056Z
UID:28820-1777802400-1777807800@enderbychapel.com
SUMMARY:Sunday Service
DESCRIPTION:
URL:https://enderbychapel.com/event/sunday-service-66/
LOCATION:Enderby Chapel\, 706 Mill Ave\, Enderby\, BC\, V0E 1V0\, Canada
END:VEVENT
BEGIN:VEVENT
DTSTART;TZID=UTC:20260501T190000
DTEND;TZID=UTC:20260501T210000
DTSTAMP:20260421T231342
CREATED:20260402T214828Z
LAST-MODIFIED:20260402T214828Z
UID:28847-1777662000-1777669200@enderbychapel.com
SUMMARY:Senior Youth (grade 8-12)
DESCRIPTION:
URL:https://enderbychapel.com/event/senior-youth-grade-8-12-10/
LOCATION:Enderby Chapel\, 706 Mill Ave\, Enderby\, BC\, V0E 1V0\, Canada
END:VEVENT
BEGIN:VEVENT
DTSTART;TZID=UTC:20260501T180000
DTEND;TZID=UTC:20260501T200000
DTSTAMP:20260421T231342
CREATED:20260402T214307Z
LAST-MODIFIED:20260402T214307Z
UID:28839-1777658400-1777665600@enderbychapel.com
SUMMARY:Young Adult Women (grade 12+)
DESCRIPTION:Dinner provided.
URL:https://enderbychapel.com/event/young-adult-women-grade-12-8/
LOCATION:Enderby Chapel\, 706 Mill Ave\, Enderby\, BC\, V0E 1V0\, Canada
END:VEVENT
BEGIN:VEVENT
DTSTART;TZID=UTC:20260429T183000
DTEND;TZID=UTC:20260429T200000
DTSTAMP:20260421T231342
CREATED:20260402T214707Z
LAST-MODIFIED:20260402T214707Z
UID:28845-1777487400-1777492800@enderbychapel.com
SUMMARY:Junior Youth (grade 5-7)
DESCRIPTION:
URL:https://enderbychapel.com/event/junior-youth-grade-5-7-9/
LOCATION:Enderby Chapel\, 706 Mill Ave\, Enderby\, BC\, V0E 1V0\, Canada
END:VEVENT
BEGIN:VEVENT
DTSTART;TZID=UTC:20260429T093000
DTEND;TZID=UTC:20260429T110000
DTSTAMP:20260421T231342
CREATED:20260402T213501Z
LAST-MODIFIED:20260402T213501Z
UID:28832-1777455000-1777460400@enderbychapel.com
SUMMARY:Ladies Bible Study
DESCRIPTION:
URL:https://enderbychapel.com/event/ladies-bible-study-78/
LOCATION:Enderby Chapel\, 706 Mill Ave\, Enderby\, BC\, V0E 1V0\, Canada
END:VEVENT
BEGIN:VEVENT
DTSTART;TZID=UTC:20260428T183000
DTEND;TZID=UTC:20260428T200000
DTSTAMP:20260421T231342
CREATED:20260402T213325Z
LAST-MODIFIED:20260402T213325Z
UID:28828-1777401000-1777406400@enderbychapel.com
SUMMARY:Youth Bible Study (grade 7-12)
DESCRIPTION:
URL:https://enderbychapel.com/event/youth-bible-study-grade-7-12-9/
LOCATION:Enderby Chapel\, 706 Mill Ave\, Enderby\, BC\, V0E 1V0\, Canada
END:VEVENT
BEGIN:VEVENT
DTSTART;TZID=UTC:20260428T100000
DTEND;TZID=UTC:20260428T110000
DTSTAMP:20260421T231342
CREATED:20260402T213140Z
LAST-MODIFIED:20260402T213140Z
UID:28824-1777370400-1777374000@enderbychapel.com
SUMMARY:Small Group
DESCRIPTION:
URL:https://enderbychapel.com/event/small-group-69/
LOCATION:Enderby Chapel\, 706 Mill Ave\, Enderby\, BC\, V0E 1V0\, Canada
END:VEVENT
BEGIN:VEVENT
DTSTART;TZID=UTC:20260426T100000
DTEND;TZID=UTC:20260426T113000
DTSTAMP:20260421T231342
CREATED:20260402T212019Z
LAST-MODIFIED:20260402T212019Z
UID:28818-1777197600-1777203000@enderbychapel.com
SUMMARY:Sunday Service
DESCRIPTION:
URL:https://enderbychapel.com/event/sunday-service-65/
LOCATION:Enderby Chapel\, 706 Mill Ave\, Enderby\, BC\, V0E 1V0\, Canada
END:VEVENT
BEGIN:VEVENT
DTSTART;TZID=UTC:20260424T190000
DTEND;TZID=UTC:20260424T210000
DTSTAMP:20260421T231342
CREATED:20260402T214401Z
LAST-MODIFIED:20260402T214401Z
UID:28841-1777057200-1777064400@enderbychapel.com
SUMMARY:Senior Youth (grade 8-12)
DESCRIPTION:
URL:https://enderbychapel.com/event/senior-youth-grade-8-12-9/
LOCATION:Enderby Chapel\, 706 Mill Ave\, Enderby\, BC\, V0E 1V0\, Canada
END:VEVENT
BEGIN:VEVENT
DTSTART;TZID=UTC:20260424T180000
DTEND;TZID=UTC:20260424T200000
DTSTAMP:20260421T231342
CREATED:20260402T214208Z
LAST-MODIFIED:20260402T214208Z
UID:28837-1777053600-1777060800@enderbychapel.com
SUMMARY:Young Adult Women (grade 12+)
DESCRIPTION:Dinner provided.
URL:https://enderbychapel.com/event/young-adult-women-grade-12-7/
LOCATION:Enderby Chapel\, 706 Mill Ave\, Enderby\, BC\, V0E 1V0\, Canada
END:VEVENT
BEGIN:VEVENT
DTSTART;TZID=UTC:20260424T100000
DTEND;TZID=UTC:20260424T113000
DTSTAMP:20260421T231342
CREATED:20260421T172629Z
LAST-MODIFIED:20260421T172629Z
UID:28859-1777024800-1777030200@enderbychapel.com
SUMMARY:Sunday Service
DESCRIPTION:
URL:https://enderbychapel.com/event/sunday-service-69/
LOCATION:Enderby Chapel\, 706 Mill Ave\, Enderby\, BC\, V0E 1V0\, Canada
END:VEVENT
BEGIN:VEVENT
DTSTART;TZID=UTC:20260423T183000
DTEND;TZID=UTC:20260423T200000
DTSTAMP:20260421T231342
CREATED:20260402T213906Z
LAST-MODIFIED:20260402T213906Z
UID:28835-1776969000-1776974400@enderbychapel.com
SUMMARY:Young Adults (grade 12+)
DESCRIPTION:
URL:https://enderbychapel.com/event/young-adults-grade-12-7/
LOCATION:Enderby Chapel\, 706 Mill Ave\, Enderby\, BC\, V0E 1V0\, Canada
END:VEVENT
END:VCALENDAR