BEGIN:VCALENDAR
VERSION:2.0
PRODID:-//The Chapel | Community, Church, Enderby, BC - ECPv6.6.4.1//NONSGML v1.0//EN
CALSCALE:GREGORIAN
METHOD:PUBLISH
X-ORIGINAL-URL:https://enderbychapel.com
X-WR-CALDESC:Events for The Chapel | Community, Church, Enderby, BC
REFRESH-INTERVAL;VALUE=DURATION:PT1H
X-Robots-Tag:noindex
X-PUBLISHED-TTL:PT1H
BEGIN:VTIMEZONE
TZID:UTC
BEGIN:STANDARD
TZOFFSETFROM:+0000
TZOFFSETTO:+0000
TZNAME:UTC
DTSTART:20220101T000000
END:STANDARD
END:VTIMEZONE
BEGIN:VEVENT
DTSTART;TZID=UTC:20220601T183000
DTEND;TZID=UTC:20220601T200000
DTSTAMP:20260424T204740
CREATED:20220526T204651Z
LAST-MODIFIED:20220526T204651Z
UID:26962-1654108200-1654113600@enderbychapel.com
SUMMARY:Jr Youth
DESCRIPTION:Grades 5-6
URL:https://enderbychapel.com/event/jr-youth-7/
LOCATION:BC
END:VEVENT
BEGIN:VEVENT
DTSTART;TZID=UTC:20220603T190000
DTEND;TZID=UTC:20220605T120000
DTSTAMP:20260424T204740
CREATED:20220526T204942Z
LAST-MODIFIED:20220526T204942Z
UID:26966-1654282800-1654430400@enderbychapel.com
SUMMARY:Sr Youth Retreat
DESCRIPTION:Grades 7-12 \nCall church for more information
URL:https://enderbychapel.com/event/sr-youth-retreat/
LOCATION:BC
END:VEVENT
BEGIN:VEVENT
DTSTART;TZID=UTC:20220605T100000
DTEND;TZID=UTC:20220605T113000
DTSTAMP:20260424T204740
CREATED:20220526T205549Z
LAST-MODIFIED:20220526T205549Z
UID:26979-1654423200-1654428600@enderbychapel.com
SUMMARY:Sunday Service
DESCRIPTION:
URL:https://enderbychapel.com/event/sunday-service-57/
LOCATION:BC
END:VEVENT
BEGIN:VEVENT
DTSTART;TZID=UTC:20220608T183000
DTEND;TZID=UTC:20220608T200000
DTSTAMP:20260424T204740
CREATED:20220526T205039Z
LAST-MODIFIED:20220526T205039Z
UID:26969-1654713000-1654718400@enderbychapel.com
SUMMARY:Jr Youth
DESCRIPTION:Grades 5-6
URL:https://enderbychapel.com/event/jr-youth-8/
LOCATION:BC
END:VEVENT
BEGIN:VEVENT
DTSTART;TZID=UTC:20220610T190000
DTEND;TZID=UTC:20220610T210000
DTSTAMP:20260424T204740
CREATED:20220526T205129Z
LAST-MODIFIED:20220526T205139Z
UID:26971-1654887600-1654894800@enderbychapel.com
SUMMARY:Sr Youth
DESCRIPTION:Grades 7-12
URL:https://enderbychapel.com/event/sr-youth-8/
LOCATION:BC
END:VEVENT
BEGIN:VEVENT
DTSTART;TZID=UTC:20220612T100000
DTEND;TZID=UTC:20220612T113000
DTSTAMP:20260424T204740
CREATED:20220526T205621Z
LAST-MODIFIED:20220526T205621Z
UID:26981-1655028000-1655033400@enderbychapel.com
SUMMARY:Sunday Service
DESCRIPTION:
URL:https://enderbychapel.com/event/sunday-service-58/
LOCATION:BC
END:VEVENT
BEGIN:VEVENT
DTSTART;TZID=UTC:20220614T110000
DTEND;TZID=UTC:20220614T130000
DTSTAMP:20260424T204740
CREATED:20220526T205453Z
LAST-MODIFIED:20220526T205453Z
UID:26977-1655204400-1655211600@enderbychapel.com
SUMMARY:Keenagers (55+)
DESCRIPTION:Luncheon
URL:https://enderbychapel.com/event/keenagers-55/
LOCATION:BC
END:VEVENT
BEGIN:VEVENT
DTSTART;TZID=UTC:20220615T183000
DTEND;TZID=UTC:20220615T200000
DTSTAMP:20260424T204740
CREATED:20220526T205227Z
LAST-MODIFIED:20220526T205227Z
UID:26973-1655317800-1655323200@enderbychapel.com
SUMMARY:Jr Youth
DESCRIPTION:Grades 5-6
URL:https://enderbychapel.com/event/jr-youth-9/
LOCATION:BC
END:VEVENT
BEGIN:VEVENT
DTSTART;TZID=UTC:20220617T190000
DTEND;TZID=UTC:20220617T210000
DTSTAMP:20260424T204740
CREATED:20220526T205323Z
LAST-MODIFIED:20220526T205323Z
UID:26975-1655492400-1655499600@enderbychapel.com
SUMMARY:Sr Youth
DESCRIPTION:Grades 7-12
URL:https://enderbychapel.com/event/sr-youth-9/
LOCATION:BC
END:VEVENT
BEGIN:VEVENT
DTSTART;TZID=UTC:20220619T100000
DTEND;TZID=UTC:20220619T113000
DTSTAMP:20260424T204740
CREATED:20220526T205718Z
LAST-MODIFIED:20220526T205718Z
UID:26983-1655632800-1655638200@enderbychapel.com
SUMMARY:Sunday Service
DESCRIPTION:
URL:https://enderbychapel.com/event/sunday-service-59/
LOCATION:BC
END:VEVENT
BEGIN:VEVENT
DTSTART;TZID=UTC:20220626T100000
DTEND;TZID=UTC:20220626T113000
DTSTAMP:20260424T204740
CREATED:20220526T205744Z
LAST-MODIFIED:20220526T205744Z
UID:26985-1656237600-1656243000@enderbychapel.com
SUMMARY:Sunday Service
DESCRIPTION:
URL:https://enderbychapel.com/event/sunday-service-60/
LOCATION:BC
END:VEVENT
END:VCALENDAR