BEGIN:VCALENDAR
VERSION:2.0
PRODID:-//The Chapel | Community, Church, Enderby, BC - ECPv6.6.4.1//NONSGML v1.0//EN
CALSCALE:GREGORIAN
METHOD:PUBLISH
X-WR-CALNAME:The Chapel | Community, Church, Enderby, BC
X-ORIGINAL-URL:https://enderbychapel.com
X-WR-CALDESC:Events for The Chapel | Community, Church, Enderby, BC
REFRESH-INTERVAL;VALUE=DURATION:PT1H
X-Robots-Tag:noindex
X-PUBLISHED-TTL:PT1H
BEGIN:VTIMEZONE
TZID:UTC
BEGIN:STANDARD
TZOFFSETFROM:+0000
TZOFFSETTO:+0000
TZNAME:UTC
DTSTART:20230101T000000
END:STANDARD
END:VTIMEZONE
BEGIN:VEVENT
DTSTART;TZID=UTC:20230201T183000
DTEND;TZID=UTC:20230201T200000
DTSTAMP:20260424T033253
CREATED:20230117T164941Z
LAST-MODIFIED:20230117T164941Z
UID:27256-1675276200-1675281600@enderbychapel.com
SUMMARY:Jr Youth grades 6-7
DESCRIPTION:
URL:https://enderbychapel.com/event/jr-youth-grades-6-7/
LOCATION:BC
END:VEVENT
BEGIN:VEVENT
DTSTART;TZID=UTC:20230203T190000
DTEND;TZID=UTC:20230203T210000
DTSTAMP:20260424T033253
CREATED:20230117T174750Z
LAST-MODIFIED:20230117T174750Z
UID:27284-1675450800-1675458000@enderbychapel.com
SUMMARY:Sr Youth grades 8-12
DESCRIPTION:
URL:https://enderbychapel.com/event/sr-youth-grades-8-12/
LOCATION:BC
END:VEVENT
BEGIN:VEVENT
DTSTART;TZID=UTC:20230206T190000
DTEND;TZID=UTC:20230206T210000
DTSTAMP:20260424T033253
CREATED:20230117T165609Z
LAST-MODIFIED:20230117T165609Z
UID:27274-1675710000-1675717200@enderbychapel.com
SUMMARY:Grade 11+ Ladies Bible Study
DESCRIPTION:
URL:https://enderbychapel.com/event/grade-11-ladies-bible-study/
LOCATION:BC
END:VEVENT
BEGIN:VEVENT
DTSTART;TZID=UTC:20230207T103000
DTEND;TZID=UTC:20230207T120000
DTSTAMP:20260424T033253
CREATED:20230117T165255Z
LAST-MODIFIED:20230117T165255Z
UID:27266-1675765800-1675771200@enderbychapel.com
SUMMARY:Small Group
DESCRIPTION:
URL:https://enderbychapel.com/event/small-group-7/
LOCATION:BC
END:VEVENT
BEGIN:VEVENT
DTSTART;TZID=UTC:20230208T183000
DTEND;TZID=UTC:20230208T200000
DTSTAMP:20260424T033253
CREATED:20230117T165019Z
LAST-MODIFIED:20230117T165019Z
UID:27258-1675881000-1675886400@enderbychapel.com
SUMMARY:Jr Youth grades 6-7
DESCRIPTION:
URL:https://enderbychapel.com/event/jr-youth-grades-6-7-2/
LOCATION:BC
END:VEVENT
BEGIN:VEVENT
DTSTART;TZID=UTC:20230210T190000
DTEND;TZID=UTC:20230210T210000
DTSTAMP:20260424T033253
CREATED:20230117T174831Z
LAST-MODIFIED:20230117T174831Z
UID:27286-1676055600-1676062800@enderbychapel.com
SUMMARY:Sr Youth grades 8-12
DESCRIPTION:
URL:https://enderbychapel.com/event/sr-youth-grades-8-12-3/
LOCATION:BC
END:VEVENT
BEGIN:VEVENT
DTSTART;TZID=UTC:20230213T190000
DTEND;TZID=UTC:20230213T210000
DTSTAMP:20260424T033253
CREATED:20230117T174500Z
LAST-MODIFIED:20230117T174500Z
UID:27277-1676314800-1676322000@enderbychapel.com
SUMMARY:Grade 11+ Ladies Bible Study
DESCRIPTION:
URL:https://enderbychapel.com/event/grade-11-ladies-bible-study-2/
LOCATION:BC
END:VEVENT
BEGIN:VEVENT
DTSTART;TZID=UTC:20230214T110000
DTEND;TZID=UTC:20230214T130000
DTSTAMP:20260424T033253
CREATED:20230117T165208Z
LAST-MODIFIED:20230117T165208Z
UID:27264-1676372400-1676379600@enderbychapel.com
SUMMARY:Keenagers (55+) Luncheon
DESCRIPTION:
URL:https://enderbychapel.com/event/keenagers-55-luncheon-4/
LOCATION:BC
END:VEVENT
BEGIN:VEVENT
DTSTART;TZID=UTC:20230215T183000
DTEND;TZID=UTC:20230215T200000
DTSTAMP:20260424T033253
CREATED:20230117T165048Z
LAST-MODIFIED:20230117T165048Z
UID:27260-1676485800-1676491200@enderbychapel.com
SUMMARY:Jr Youth grades 6-7
DESCRIPTION:
URL:https://enderbychapel.com/event/jr-youth-grades-6-7-3/
LOCATION:BC
END:VEVENT
BEGIN:VEVENT
DTSTART;TZID=UTC:20230217T190000
DTEND;TZID=UTC:20230217T210000
DTSTAMP:20260424T033253
CREATED:20230117T174859Z
LAST-MODIFIED:20230117T174859Z
UID:27288-1676660400-1676667600@enderbychapel.com
SUMMARY:Sr Youth grades 8-12
DESCRIPTION:
URL:https://enderbychapel.com/event/sr-youth-grades-8-12-4/
LOCATION:BC
END:VEVENT
BEGIN:VEVENT
DTSTART;TZID=UTC:20230220T080000
DTEND;TZID=UTC:20230220T170000
DTSTAMP:20260424T033253
CREATED:20230117T175031Z
LAST-MODIFIED:20230117T175031Z
UID:27292-1676880000-1676912400@enderbychapel.com
SUMMARY:FAMILY DAY HOLIDAY
DESCRIPTION:
URL:https://enderbychapel.com/event/family-day-holiday/
LOCATION:BC
END:VEVENT
BEGIN:VEVENT
DTSTART;TZID=UTC:20230221T103000
DTEND;TZID=UTC:20230221T120000
DTSTAMP:20260424T033253
CREATED:20230117T165409Z
LAST-MODIFIED:20230117T165409Z
UID:27270-1676975400-1676980800@enderbychapel.com
SUMMARY:Small Group
DESCRIPTION:
URL:https://enderbychapel.com/event/small-group-9/
LOCATION:BC
END:VEVENT
BEGIN:VEVENT
DTSTART;TZID=UTC:20230222T183000
DTEND;TZID=UTC:20230222T200000
DTSTAMP:20260424T033253
CREATED:20230117T165112Z
LAST-MODIFIED:20230117T165112Z
UID:27262-1677090600-1677096000@enderbychapel.com
SUMMARY:Jr Youth grades 6-7
DESCRIPTION:
URL:https://enderbychapel.com/event/jr-youth-grades-6-7-4/
LOCATION:BC
END:VEVENT
BEGIN:VEVENT
DTSTART;TZID=UTC:20230224T190000
DTEND;TZID=UTC:20230224T210000
DTSTAMP:20260424T033253
CREATED:20230117T174927Z
LAST-MODIFIED:20230117T174927Z
UID:27290-1677265200-1677272400@enderbychapel.com
SUMMARY:Sr Youth grades 8-12
DESCRIPTION:
URL:https://enderbychapel.com/event/sr-youth-grades-8-12-5/
LOCATION:BC
END:VEVENT
BEGIN:VEVENT
DTSTART;TZID=UTC:20230227T190000
DTEND;TZID=UTC:20230227T210000
DTSTAMP:20260424T033253
CREATED:20230117T174614Z
LAST-MODIFIED:20230117T174655Z
UID:27281-1677524400-1677531600@enderbychapel.com
SUMMARY:Grade 11+ Ladies Bible Study
DESCRIPTION:
URL:https://enderbychapel.com/event/grade-11-bible-study/
LOCATION:BC
END:VEVENT
BEGIN:VEVENT
DTSTART;TZID=UTC:20230228T103000
DTEND;TZID=UTC:20230228T120000
DTSTAMP:20260424T033253
CREATED:20230117T165435Z
LAST-MODIFIED:20230117T165435Z
UID:27272-1677580200-1677585600@enderbychapel.com
SUMMARY:Small Group
DESCRIPTION:
URL:https://enderbychapel.com/event/small-group-10/
LOCATION:BC
END:VEVENT
END:VCALENDAR