BEGIN:VCALENDAR
VERSION:2.0
PRODID:-//The Chapel | Community, Church, Enderby, BC - ECPv6.6.4.1//NONSGML v1.0//EN
CALSCALE:GREGORIAN
METHOD:PUBLISH
X-ORIGINAL-URL:https://enderbychapel.com
X-WR-CALDESC:Events for The Chapel | Community, Church, Enderby, BC
REFRESH-INTERVAL;VALUE=DURATION:PT1H
X-Robots-Tag:noindex
X-PUBLISHED-TTL:PT1H
BEGIN:VTIMEZONE
TZID:UTC
BEGIN:STANDARD
TZOFFSETFROM:+0000
TZOFFSETTO:+0000
TZNAME:UTC
DTSTART:20230101T000000
END:STANDARD
END:VTIMEZONE
BEGIN:VEVENT
DTSTART;TZID=UTC:20230718T103000
DTEND;TZID=UTC:20230718T120000
DTSTAMP:20260423T091203
CREATED:20230718T162413Z
LAST-MODIFIED:20230718T162413Z
UID:27582-1689676200-1689681600@enderbychapel.com
SUMMARY:Small Group
DESCRIPTION:
URL:https://enderbychapel.com/event/small-group-21/
LOCATION:BC
END:VEVENT
BEGIN:VEVENT
DTSTART;TZID=UTC:20230723T100000
DTEND;TZID=UTC:20230723T113000
DTSTAMP:20260423T091203
CREATED:20230718T162951Z
LAST-MODIFIED:20230718T162951Z
UID:27604-1690106400-1690111800@enderbychapel.com
SUMMARY:Worship Service
DESCRIPTION:
URL:https://enderbychapel.com/event/worship-service-20/
LOCATION:BC
END:VEVENT
BEGIN:VEVENT
DTSTART;TZID=UTC:20230725T103000
DTEND;TZID=UTC:20230725T120000
DTSTAMP:20260423T091203
CREATED:20230718T162449Z
LAST-MODIFIED:20230718T162449Z
UID:27584-1690281000-1690286400@enderbychapel.com
SUMMARY:Small Group
DESCRIPTION:
URL:https://enderbychapel.com/event/small-group-24/
LOCATION:BC
END:VEVENT
BEGIN:VEVENT
DTSTART;TZID=UTC:20230730T100000
DTEND;TZID=UTC:20230730T113000
DTSTAMP:20260423T091203
CREATED:20230718T163016Z
LAST-MODIFIED:20230718T163016Z
UID:27606-1690711200-1690716600@enderbychapel.com
SUMMARY:Worship Service
DESCRIPTION:
URL:https://enderbychapel.com/event/worship-service-21/
LOCATION:BC
END:VEVENT
END:VCALENDAR